BEGIN:VCALENDAR
VERSION:2.0
PRODID:-//Wichita Animal Action League - ECPv6.15.15//NONSGML v1.0//EN
CALSCALE:GREGORIAN
METHOD:PUBLISH
X-WR-CALNAME:Wichita Animal Action League
X-ORIGINAL-URL:https://waalrescue.org
X-WR-CALDESC:Events for Wichita Animal Action League
REFRESH-INTERVAL;VALUE=DURATION:PT1H
X-Robots-Tag:noindex
X-PUBLISHED-TTL:PT1H
BEGIN:VTIMEZONE
TZID:America/Chicago
BEGIN:DAYLIGHT
TZOFFSETFROM:-0600
TZOFFSETTO:-0500
TZNAME:CDT
DTSTART:20250309T080000
END:DAYLIGHT
BEGIN:STANDARD
TZOFFSETFROM:-0500
TZOFFSETTO:-0600
TZNAME:CST
DTSTART:20251102T070000
END:STANDARD
BEGIN:DAYLIGHT
TZOFFSETFROM:-0600
TZOFFSETTO:-0500
TZNAME:CDT
DTSTART:20260308T080000
END:DAYLIGHT
BEGIN:STANDARD
TZOFFSETFROM:-0500
TZOFFSETTO:-0600
TZNAME:CST
DTSTART:20261101T070000
END:STANDARD
BEGIN:DAYLIGHT
TZOFFSETFROM:-0600
TZOFFSETTO:-0500
TZNAME:CDT
DTSTART:20270314T080000
END:DAYLIGHT
BEGIN:STANDARD
TZOFFSETFROM:-0500
TZOFFSETTO:-0600
TZNAME:CST
DTSTART:20271107T070000
END:STANDARD
END:VTIMEZONE
BEGIN:VEVENT
DTSTART;TZID=America/Chicago:20260429T180000
DTEND;TZID=America/Chicago:20260429T200000
DTSTAMP:20260423T140525
CREATED:20251211T221303Z
LAST-MODIFIED:20260225T153036Z
UID:10000081-1777485600-1777492800@waalrescue.org
SUMMARY:Adoptable Dogs at Barks and Brews!
DESCRIPTION:Come and meet adoptable dogs at Barks & Brews!
URL:https://waalrescue.org/event/adoptable-dogs-at-barks-and-brews/2026-04-29/
LOCATION:Barks & Brews\, 1312 E English St\, Wichita\, 67211\, United States
ATTACH;FMTTYPE=image/jpeg:https://waalrescue.org/wp-content/uploads/2025/12/Barks-Brews.jpg
END:VEVENT
BEGIN:VEVENT
DTSTART;TZID=America/Chicago:20260527T180000
DTEND;TZID=America/Chicago:20260527T200000
DTSTAMP:20260423T140525
CREATED:20251211T221303Z
LAST-MODIFIED:20260225T153036Z
UID:10000082-1779904800-1779912000@waalrescue.org
SUMMARY:Adoptable Dogs at Barks and Brews!
DESCRIPTION:Come and meet adoptable dogs at Barks & Brews!
URL:https://waalrescue.org/event/adoptable-dogs-at-barks-and-brews/2026-05-27/
LOCATION:Barks & Brews\, 1312 E English St\, Wichita\, 67211\, United States
ATTACH;FMTTYPE=image/jpeg:https://waalrescue.org/wp-content/uploads/2025/12/Barks-Brews.jpg
END:VEVENT
BEGIN:VEVENT
DTSTART;TZID=America/Chicago:20260624T180000
DTEND;TZID=America/Chicago:20260624T200000
DTSTAMP:20260423T140525
CREATED:20251211T221303Z
LAST-MODIFIED:20260225T153036Z
UID:10000083-1782324000-1782331200@waalrescue.org
SUMMARY:Adoptable Dogs at Barks and Brews!
DESCRIPTION:Come and meet adoptable dogs at Barks & Brews!
URL:https://waalrescue.org/event/adoptable-dogs-at-barks-and-brews/2026-06-24/
LOCATION:Barks & Brews\, 1312 E English St\, Wichita\, 67211\, United States
ATTACH;FMTTYPE=image/jpeg:https://waalrescue.org/wp-content/uploads/2025/12/Barks-Brews.jpg
END:VEVENT
BEGIN:VEVENT
DTSTART;TZID=America/Chicago:20260729T180000
DTEND;TZID=America/Chicago:20260729T200000
DTSTAMP:20260423T140525
CREATED:20251211T221303Z
LAST-MODIFIED:20260225T153036Z
UID:10000084-1785348000-1785355200@waalrescue.org
SUMMARY:Adoptable Dogs at Barks and Brews!
DESCRIPTION:Come and meet adoptable dogs at Barks & Brews!
URL:https://waalrescue.org/event/adoptable-dogs-at-barks-and-brews/2026-07-29/
LOCATION:Barks & Brews\, 1312 E English St\, Wichita\, 67211\, United States
ATTACH;FMTTYPE=image/jpeg:https://waalrescue.org/wp-content/uploads/2025/12/Barks-Brews.jpg
END:VEVENT
BEGIN:VEVENT
DTSTART;TZID=America/Chicago:20260826T180000
DTEND;TZID=America/Chicago:20260826T200000
DTSTAMP:20260423T140525
CREATED:20251211T221303Z
LAST-MODIFIED:20260225T153036Z
UID:10000085-1787767200-1787774400@waalrescue.org
SUMMARY:Adoptable Dogs at Barks and Brews!
DESCRIPTION:Come and meet adoptable dogs at Barks & Brews!
URL:https://waalrescue.org/event/adoptable-dogs-at-barks-and-brews/2026-08-26/
LOCATION:Barks & Brews\, 1312 E English St\, Wichita\, 67211\, United States
ATTACH;FMTTYPE=image/jpeg:https://waalrescue.org/wp-content/uploads/2025/12/Barks-Brews.jpg
END:VEVENT
BEGIN:VEVENT
DTSTART;TZID=America/Chicago:20260930T180000
DTEND;TZID=America/Chicago:20260930T200000
DTSTAMP:20260423T140525
CREATED:20251211T221303Z
LAST-MODIFIED:20260225T153036Z
UID:10000086-1790791200-1790798400@waalrescue.org
SUMMARY:Adoptable Dogs at Barks and Brews!
DESCRIPTION:Come and meet adoptable dogs at Barks & Brews!
URL:https://waalrescue.org/event/adoptable-dogs-at-barks-and-brews/2026-09-30/
LOCATION:Barks & Brews\, 1312 E English St\, Wichita\, 67211\, United States
ATTACH;FMTTYPE=image/jpeg:https://waalrescue.org/wp-content/uploads/2025/12/Barks-Brews.jpg
END:VEVENT
BEGIN:VEVENT
DTSTART;TZID=America/Chicago:20261028T180000
DTEND;TZID=America/Chicago:20261028T200000
DTSTAMP:20260423T140525
CREATED:20251211T221303Z
LAST-MODIFIED:20260225T153036Z
UID:10000087-1793210400-1793217600@waalrescue.org
SUMMARY:Adoptable Dogs at Barks and Brews!
DESCRIPTION:Come and meet adoptable dogs at Barks & Brews!
URL:https://waalrescue.org/event/adoptable-dogs-at-barks-and-brews/2026-10-28/
LOCATION:Barks & Brews\, 1312 E English St\, Wichita\, 67211\, United States
ATTACH;FMTTYPE=image/jpeg:https://waalrescue.org/wp-content/uploads/2025/12/Barks-Brews.jpg
END:VEVENT
BEGIN:VEVENT
DTSTART;TZID=America/Chicago:20261125T180000
DTEND;TZID=America/Chicago:20261125T200000
DTSTAMP:20260423T140525
CREATED:20251211T221303Z
LAST-MODIFIED:20260225T153036Z
UID:10000088-1795629600-1795636800@waalrescue.org
SUMMARY:Adoptable Dogs at Barks and Brews!
DESCRIPTION:Come and meet adoptable dogs at Barks & Brews!
URL:https://waalrescue.org/event/adoptable-dogs-at-barks-and-brews/2026-11-25/
LOCATION:Barks & Brews\, 1312 E English St\, Wichita\, 67211\, United States
ATTACH;FMTTYPE=image/jpeg:https://waalrescue.org/wp-content/uploads/2025/12/Barks-Brews.jpg
END:VEVENT
BEGIN:VEVENT
DTSTART;TZID=America/Chicago:20261230T180000
DTEND;TZID=America/Chicago:20261230T200000
DTSTAMP:20260423T140525
CREATED:20251211T221303Z
LAST-MODIFIED:20260225T153036Z
UID:10000089-1798653600-1798660800@waalrescue.org
SUMMARY:Adoptable Dogs at Barks and Brews!
DESCRIPTION:Come and meet adoptable dogs at Barks & Brews!
URL:https://waalrescue.org/event/adoptable-dogs-at-barks-and-brews/2026-12-30/
LOCATION:Barks & Brews\, 1312 E English St\, Wichita\, 67211\, United States
ATTACH;FMTTYPE=image/jpeg:https://waalrescue.org/wp-content/uploads/2025/12/Barks-Brews.jpg
END:VEVENT
END:VCALENDAR