BEGIN:VCALENDAR
VERSION:2.0
PRODID:-//Wichita Animal Action League - ECPv6.15.15//NONSGML v1.0//EN
CALSCALE:GREGORIAN
METHOD:PUBLISH
X-ORIGINAL-URL:https://waalrescue.org
X-WR-CALDESC:Events for Wichita Animal Action League
REFRESH-INTERVAL;VALUE=DURATION:PT1H
X-Robots-Tag:noindex
X-PUBLISHED-TTL:PT1H
BEGIN:VTIMEZONE
TZID:America/Chicago
BEGIN:DAYLIGHT
TZOFFSETFROM:-0600
TZOFFSETTO:-0500
TZNAME:CDT
DTSTART:20250309T080000
END:DAYLIGHT
BEGIN:STANDARD
TZOFFSETFROM:-0500
TZOFFSETTO:-0600
TZNAME:CST
DTSTART:20251102T070000
END:STANDARD
BEGIN:DAYLIGHT
TZOFFSETFROM:-0600
TZOFFSETTO:-0500
TZNAME:CDT
DTSTART:20260308T080000
END:DAYLIGHT
BEGIN:STANDARD
TZOFFSETFROM:-0500
TZOFFSETTO:-0600
TZNAME:CST
DTSTART:20261101T070000
END:STANDARD
BEGIN:DAYLIGHT
TZOFFSETFROM:-0600
TZOFFSETTO:-0500
TZNAME:CDT
DTSTART:20270314T080000
END:DAYLIGHT
BEGIN:STANDARD
TZOFFSETFROM:-0500
TZOFFSETTO:-0600
TZNAME:CST
DTSTART:20271107T070000
END:STANDARD
END:VTIMEZONE
BEGIN:VEVENT
DTSTART;TZID=America/Chicago:20260125T100000
DTEND;TZID=America/Chicago:20260125T170000
DTSTAMP:20260424T041312
CREATED:20251211T224147Z
LAST-MODIFIED:20251211T224147Z
UID:10000068-1769335200-1769360400@waalrescue.org
SUMMARY:Bowling Tournament
DESCRIPTION:Join WAAL at Bowlero Northridge for a day of bowling and raising money for pets in need!\n$25 to enter the 9-pin-is-a-strike tournament (which includes three games and shoes)! Plus\, there will be raffles and more!\nThis event is always a TON of fun\, and the money raised will certainly help SO many in our community.\nSign up by getting tickets at the link below!\n\nhttps://docs.google.com/forms/d/e/1FAIpQLSdgGDSxHPKd2GtAK87YX5voZGsn2WJDF3dp4m6e1dOBet-bGA/viewform?fbclid=IwY2xjawOoJ5xleHRuA2FlbQIxMABicmlkETE0Z0xtajEzVGdZa3U4Ukxjc3J0YwZhcHBfaWQQMjIyMDM5MTc4ODIwMDg5MgABHmGtvOwT8LDA1LWPjttwPeWWMPBYd6PzDwgH-hc4dzTEoXwuBatABWFV5XJt_aem_4XG9XNp0cuF8OpdP8yle1g
URL:https://waalrescue.org/event/bowling-tournament/
LOCATION:Bowlero\, 749 N Ridge Rd\, Wichita\, Kansas\, 67212\, United States
ATTACH;FMTTYPE=image/jpeg:https://waalrescue.org/wp-content/uploads/2025/12/bowlero.jpg
END:VEVENT
BEGIN:VEVENT
DTSTART;TZID=America/Chicago:20260128T180000
DTEND;TZID=America/Chicago:20260128T200000
DTSTAMP:20260424T041312
CREATED:20251211T221303Z
LAST-MODIFIED:20260225T153036Z
UID:10000007-1769623200-1769630400@waalrescue.org
SUMMARY:Adoptable Dogs at Barks and Brews!
DESCRIPTION:Come and meet adoptable dogs at Barks & Brews!
URL:https://waalrescue.org/event/adoptable-dogs-at-barks-and-brews/2026-01-28/
LOCATION:Barks & Brews\, 1312 E English St\, Wichita\, 67211\, United States
ATTACH;FMTTYPE=image/jpeg:https://waalrescue.org/wp-content/uploads/2025/12/Barks-Brews.jpg
END:VEVENT
BEGIN:VEVENT
DTSTART;TZID=America/Chicago:20260131T100000
DTEND;TZID=America/Chicago:20260131T120000
DTSTAMP:20260424T041312
CREATED:20251211T224347Z
LAST-MODIFIED:20251211T224347Z
UID:10000069-1769853600-1769860800@waalrescue.org
SUMMARY:Chips n Clips
DESCRIPTION:Does trimming your dog's toenails sound as fun as skinny dipping in the Arctic? Let's be honest... are you bit scared to trim your cat's murder mittens?\nLet us take this chore off your plate! At a fraction of the cost of what most vet clinics or groomers charge\, our experienced staff and volunteers can keep your pets happier and healthier!\nNo appointment needed! Cash\, card\, or VENMO accepted.\n*Please park to the rear (or east) of our building at 1550 N. Broadway. You can put 1545 N. Topeka in your GPS if you get lost!
URL:https://waalrescue.org/event/chips-n-clips/
LOCATION:Century II\, 225 W Douglas Ave\, Wichita\, KS\, 67202\, United States
ATTACH;FMTTYPE=image/jpeg:https://waalrescue.org/wp-content/uploads/2025/12/chips-n-clips.jpg
END:VEVENT
END:VCALENDAR