BEGIN:VCALENDAR
VERSION:2.0
PRODID:-//Wichita Animal Action League - ECPv6.15.15//NONSGML v1.0//EN
CALSCALE:GREGORIAN
METHOD:PUBLISH
X-WR-CALNAME:Wichita Animal Action League
X-ORIGINAL-URL:https://waalrescue.org
X-WR-CALDESC:Events for Wichita Animal Action League
REFRESH-INTERVAL;VALUE=DURATION:PT1H
X-Robots-Tag:noindex
X-PUBLISHED-TTL:PT1H
BEGIN:VTIMEZONE
TZID:America/Chicago
BEGIN:DAYLIGHT
TZOFFSETFROM:-0600
TZOFFSETTO:-0500
TZNAME:CDT
DTSTART:20290311T080000
END:DAYLIGHT
BEGIN:STANDARD
TZOFFSETFROM:-0500
TZOFFSETTO:-0600
TZNAME:CST
DTSTART:20291104T070000
END:STANDARD
BEGIN:DAYLIGHT
TZOFFSETFROM:-0600
TZOFFSETTO:-0500
TZNAME:CDT
DTSTART:20300310T080000
END:DAYLIGHT
BEGIN:STANDARD
TZOFFSETFROM:-0500
TZOFFSETTO:-0600
TZNAME:CST
DTSTART:20301103T070000
END:STANDARD
BEGIN:DAYLIGHT
TZOFFSETFROM:-0600
TZOFFSETTO:-0500
TZNAME:CDT
DTSTART:20310309T080000
END:DAYLIGHT
BEGIN:STANDARD
TZOFFSETFROM:-0500
TZOFFSETTO:-0600
TZNAME:CST
DTSTART:20311102T070000
END:STANDARD
BEGIN:DAYLIGHT
TZOFFSETFROM:-0600
TZOFFSETTO:-0500
TZNAME:CDT
DTSTART:20320314T080000
END:DAYLIGHT
BEGIN:STANDARD
TZOFFSETFROM:-0500
TZOFFSETTO:-0600
TZNAME:CST
DTSTART:20321107T070000
END:STANDARD
END:VTIMEZONE
BEGIN:VEVENT
DTSTART;TZID=America/Chicago:20300413T113000
DTEND;TZID=America/Chicago:20300413T130000
DTSTAMP:20260425T070630
CREATED:20260310T130446Z
LAST-MODIFIED:20260310T130722Z
UID:10000145-1902310200-1902315600@waalrescue.org
SUMMARY:Join us at Petco West (Maize) for adoptable pets!
DESCRIPTION:Come check out some of our adorable dogs and puppies!  You might just find your new best friend!
URL:https://waalrescue.org/event/join-us-at-petco-west-for-adoptable-pets/2030-04-13/
LOCATION:Petco West\, 2441 N Maize Road\, Suite 1001\, Wichita\, KS\, 67205
ATTACH;FMTTYPE=image/jpeg:https://waalrescue.org/wp-content/uploads/2026/03/IMG_2823.jpeg
END:VEVENT
BEGIN:VEVENT
DTSTART;TZID=America/Chicago:20300511T113000
DTEND;TZID=America/Chicago:20300511T130000
DTSTAMP:20260425T070630
CREATED:20260310T130446Z
LAST-MODIFIED:20260310T130722Z
UID:10000146-1904729400-1904734800@waalrescue.org
SUMMARY:Join us at Petco West (Maize) for adoptable pets!
DESCRIPTION:Come check out some of our adorable dogs and puppies!  You might just find your new best friend!
URL:https://waalrescue.org/event/join-us-at-petco-west-for-adoptable-pets/2030-05-11/
LOCATION:Petco West\, 2441 N Maize Road\, Suite 1001\, Wichita\, KS\, 67205
ATTACH;FMTTYPE=image/jpeg:https://waalrescue.org/wp-content/uploads/2026/03/IMG_2823.jpeg
END:VEVENT
BEGIN:VEVENT
DTSTART;TZID=America/Chicago:20300608T113000
DTEND;TZID=America/Chicago:20300608T130000
DTSTAMP:20260425T070630
CREATED:20260310T130446Z
LAST-MODIFIED:20260310T130722Z
UID:10000147-1907148600-1907154000@waalrescue.org
SUMMARY:Join us at Petco West (Maize) for adoptable pets!
DESCRIPTION:Come check out some of our adorable dogs and puppies!  You might just find your new best friend!
URL:https://waalrescue.org/event/join-us-at-petco-west-for-adoptable-pets/2030-06-08/
LOCATION:Petco West\, 2441 N Maize Road\, Suite 1001\, Wichita\, KS\, 67205
ATTACH;FMTTYPE=image/jpeg:https://waalrescue.org/wp-content/uploads/2026/03/IMG_2823.jpeg
END:VEVENT
BEGIN:VEVENT
DTSTART;TZID=America/Chicago:20300713T113000
DTEND;TZID=America/Chicago:20300713T130000
DTSTAMP:20260425T070630
CREATED:20260310T130446Z
LAST-MODIFIED:20260310T130722Z
UID:10000148-1910172600-1910178000@waalrescue.org
SUMMARY:Join us at Petco West (Maize) for adoptable pets!
DESCRIPTION:Come check out some of our adorable dogs and puppies!  You might just find your new best friend!
URL:https://waalrescue.org/event/join-us-at-petco-west-for-adoptable-pets/2030-07-13/
LOCATION:Petco West\, 2441 N Maize Road\, Suite 1001\, Wichita\, KS\, 67205
ATTACH;FMTTYPE=image/jpeg:https://waalrescue.org/wp-content/uploads/2026/03/IMG_2823.jpeg
END:VEVENT
BEGIN:VEVENT
DTSTART;TZID=America/Chicago:20300810T113000
DTEND;TZID=America/Chicago:20300810T130000
DTSTAMP:20260425T070630
CREATED:20260310T130446Z
LAST-MODIFIED:20260310T130722Z
UID:10000149-1912591800-1912597200@waalrescue.org
SUMMARY:Join us at Petco West (Maize) for adoptable pets!
DESCRIPTION:Come check out some of our adorable dogs and puppies!  You might just find your new best friend!
URL:https://waalrescue.org/event/join-us-at-petco-west-for-adoptable-pets/2030-08-10/
LOCATION:Petco West\, 2441 N Maize Road\, Suite 1001\, Wichita\, KS\, 67205
ATTACH;FMTTYPE=image/jpeg:https://waalrescue.org/wp-content/uploads/2026/03/IMG_2823.jpeg
END:VEVENT
BEGIN:VEVENT
DTSTART;TZID=America/Chicago:20300914T113000
DTEND;TZID=America/Chicago:20300914T130000
DTSTAMP:20260425T070630
CREATED:20260310T130446Z
LAST-MODIFIED:20260310T130722Z
UID:10000150-1915615800-1915621200@waalrescue.org
SUMMARY:Join us at Petco West (Maize) for adoptable pets!
DESCRIPTION:Come check out some of our adorable dogs and puppies!  You might just find your new best friend!
URL:https://waalrescue.org/event/join-us-at-petco-west-for-adoptable-pets/2030-09-14/
LOCATION:Petco West\, 2441 N Maize Road\, Suite 1001\, Wichita\, KS\, 67205
ATTACH;FMTTYPE=image/jpeg:https://waalrescue.org/wp-content/uploads/2026/03/IMG_2823.jpeg
END:VEVENT
BEGIN:VEVENT
DTSTART;TZID=America/Chicago:20301012T113000
DTEND;TZID=America/Chicago:20301012T130000
DTSTAMP:20260425T070630
CREATED:20260310T130446Z
LAST-MODIFIED:20260310T130722Z
UID:10000151-1918035000-1918040400@waalrescue.org
SUMMARY:Join us at Petco West (Maize) for adoptable pets!
DESCRIPTION:Come check out some of our adorable dogs and puppies!  You might just find your new best friend!
URL:https://waalrescue.org/event/join-us-at-petco-west-for-adoptable-pets/2030-10-12/
LOCATION:Petco West\, 2441 N Maize Road\, Suite 1001\, Wichita\, KS\, 67205
ATTACH;FMTTYPE=image/jpeg:https://waalrescue.org/wp-content/uploads/2026/03/IMG_2823.jpeg
END:VEVENT
BEGIN:VEVENT
DTSTART;TZID=America/Chicago:20301109T113000
DTEND;TZID=America/Chicago:20301109T130000
DTSTAMP:20260425T070630
CREATED:20260310T130446Z
LAST-MODIFIED:20260310T130722Z
UID:10000152-1920454200-1920459600@waalrescue.org
SUMMARY:Join us at Petco West (Maize) for adoptable pets!
DESCRIPTION:Come check out some of our adorable dogs and puppies!  You might just find your new best friend!
URL:https://waalrescue.org/event/join-us-at-petco-west-for-adoptable-pets/2030-11-09/
LOCATION:Petco West\, 2441 N Maize Road\, Suite 1001\, Wichita\, KS\, 67205
ATTACH;FMTTYPE=image/jpeg:https://waalrescue.org/wp-content/uploads/2026/03/IMG_2823.jpeg
END:VEVENT
BEGIN:VEVENT
DTSTART;TZID=America/Chicago:20301214T113000
DTEND;TZID=America/Chicago:20301214T130000
DTSTAMP:20260425T070630
CREATED:20260310T130446Z
LAST-MODIFIED:20260310T130722Z
UID:10000153-1923478200-1923483600@waalrescue.org
SUMMARY:Join us at Petco West (Maize) for adoptable pets!
DESCRIPTION:Come check out some of our adorable dogs and puppies!  You might just find your new best friend!
URL:https://waalrescue.org/event/join-us-at-petco-west-for-adoptable-pets/2030-12-14/
LOCATION:Petco West\, 2441 N Maize Road\, Suite 1001\, Wichita\, KS\, 67205
ATTACH;FMTTYPE=image/jpeg:https://waalrescue.org/wp-content/uploads/2026/03/IMG_2823.jpeg
END:VEVENT
BEGIN:VEVENT
DTSTART;TZID=America/Chicago:20310111T113000
DTEND;TZID=America/Chicago:20310111T130000
DTSTAMP:20260425T070630
CREATED:20260310T130446Z
LAST-MODIFIED:20260310T130722Z
UID:10000154-1925897400-1925902800@waalrescue.org
SUMMARY:Join us at Petco West (Maize) for adoptable pets!
DESCRIPTION:Come check out some of our adorable dogs and puppies!  You might just find your new best friend!
URL:https://waalrescue.org/event/join-us-at-petco-west-for-adoptable-pets/2031-01-11/
LOCATION:Petco West\, 2441 N Maize Road\, Suite 1001\, Wichita\, KS\, 67205
ATTACH;FMTTYPE=image/jpeg:https://waalrescue.org/wp-content/uploads/2026/03/IMG_2823.jpeg
END:VEVENT
BEGIN:VEVENT
DTSTART;TZID=America/Chicago:20310208T113000
DTEND;TZID=America/Chicago:20310208T130000
DTSTAMP:20260425T070630
CREATED:20260310T130446Z
LAST-MODIFIED:20260310T130722Z
UID:10000155-1928316600-1928322000@waalrescue.org
SUMMARY:Join us at Petco West (Maize) for adoptable pets!
DESCRIPTION:Come check out some of our adorable dogs and puppies!  You might just find your new best friend!
URL:https://waalrescue.org/event/join-us-at-petco-west-for-adoptable-pets/2031-02-08/
LOCATION:Petco West\, 2441 N Maize Road\, Suite 1001\, Wichita\, KS\, 67205
ATTACH;FMTTYPE=image/jpeg:https://waalrescue.org/wp-content/uploads/2026/03/IMG_2823.jpeg
END:VEVENT
BEGIN:VEVENT
DTSTART;TZID=America/Chicago:20310308T113000
DTEND;TZID=America/Chicago:20310308T130000
DTSTAMP:20260425T070630
CREATED:20260310T130446Z
LAST-MODIFIED:20260310T130722Z
UID:10000156-1930735800-1930741200@waalrescue.org
SUMMARY:Join us at Petco West (Maize) for adoptable pets!
DESCRIPTION:Come check out some of our adorable dogs and puppies!  You might just find your new best friend!
URL:https://waalrescue.org/event/join-us-at-petco-west-for-adoptable-pets/2031-03-08/
LOCATION:Petco West\, 2441 N Maize Road\, Suite 1001\, Wichita\, KS\, 67205
ATTACH;FMTTYPE=image/jpeg:https://waalrescue.org/wp-content/uploads/2026/03/IMG_2823.jpeg
END:VEVENT
END:VCALENDAR