BEGIN:VCALENDAR
VERSION:2.0
PRODID:-//Wichita Animal Action League - ECPv6.15.15//NONSGML v1.0//EN
CALSCALE:GREGORIAN
METHOD:PUBLISH
X-ORIGINAL-URL:https://waalrescue.org
X-WR-CALDESC:Events for Wichita Animal Action League
REFRESH-INTERVAL;VALUE=DURATION:PT1H
X-Robots-Tag:noindex
X-PUBLISHED-TTL:PT1H
BEGIN:VTIMEZONE
TZID:America/Chicago
BEGIN:DAYLIGHT
TZOFFSETFROM:-0600
TZOFFSETTO:-0500
TZNAME:CDT
DTSTART:20260308T080000
END:DAYLIGHT
BEGIN:STANDARD
TZOFFSETFROM:-0500
TZOFFSETTO:-0600
TZNAME:CST
DTSTART:20261101T070000
END:STANDARD
BEGIN:DAYLIGHT
TZOFFSETFROM:-0600
TZOFFSETTO:-0500
TZNAME:CDT
DTSTART:20270314T080000
END:DAYLIGHT
BEGIN:STANDARD
TZOFFSETFROM:-0500
TZOFFSETTO:-0600
TZNAME:CST
DTSTART:20271107T070000
END:STANDARD
BEGIN:DAYLIGHT
TZOFFSETFROM:-0600
TZOFFSETTO:-0500
TZNAME:CDT
DTSTART:20280312T080000
END:DAYLIGHT
BEGIN:STANDARD
TZOFFSETFROM:-0500
TZOFFSETTO:-0600
TZNAME:CST
DTSTART:20281105T070000
END:STANDARD
BEGIN:DAYLIGHT
TZOFFSETFROM:-0600
TZOFFSETTO:-0500
TZNAME:CDT
DTSTART:20290311T080000
END:DAYLIGHT
BEGIN:STANDARD
TZOFFSETFROM:-0500
TZOFFSETTO:-0600
TZNAME:CST
DTSTART:20291104T070000
END:STANDARD
BEGIN:DAYLIGHT
TZOFFSETFROM:-0600
TZOFFSETTO:-0500
TZNAME:CDT
DTSTART:20300310T080000
END:DAYLIGHT
BEGIN:STANDARD
TZOFFSETFROM:-0500
TZOFFSETTO:-0600
TZNAME:CST
DTSTART:20301103T070000
END:STANDARD
BEGIN:DAYLIGHT
TZOFFSETFROM:-0600
TZOFFSETTO:-0500
TZNAME:CDT
DTSTART:20310309T080000
END:DAYLIGHT
BEGIN:STANDARD
TZOFFSETFROM:-0500
TZOFFSETTO:-0600
TZNAME:CST
DTSTART:20311102T070000
END:STANDARD
END:VTIMEZONE
BEGIN:VEVENT
DTSTART;TZID=America/Chicago:20271009T113000
DTEND;TZID=America/Chicago:20271009T130000
DTSTAMP:20260423T185927
CREATED:20260310T130446Z
LAST-MODIFIED:20260310T130722Z
UID:10000115-1823081400-1823086800@waalrescue.org
SUMMARY:Join us at Petco West (Maize) for adoptable pets!
DESCRIPTION:Come check out some of our adorable dogs and puppies!  You might just find your new best friend!
URL:https://waalrescue.org/event/join-us-at-petco-west-for-adoptable-pets/2027-10-09/
LOCATION:Petco West\, 2441 N Maize Road\, Suite 1001\, Wichita\, KS\, 67205
ATTACH;FMTTYPE=image/jpeg:https://waalrescue.org/wp-content/uploads/2026/03/IMG_2823.jpeg
END:VEVENT
BEGIN:VEVENT
DTSTART;TZID=America/Chicago:20271113T113000
DTEND;TZID=America/Chicago:20271113T130000
DTSTAMP:20260423T185927
CREATED:20260310T130446Z
LAST-MODIFIED:20260310T130722Z
UID:10000116-1826105400-1826110800@waalrescue.org
SUMMARY:Join us at Petco West (Maize) for adoptable pets!
DESCRIPTION:Come check out some of our adorable dogs and puppies!  You might just find your new best friend!
URL:https://waalrescue.org/event/join-us-at-petco-west-for-adoptable-pets/2027-11-13/
LOCATION:Petco West\, 2441 N Maize Road\, Suite 1001\, Wichita\, KS\, 67205
ATTACH;FMTTYPE=image/jpeg:https://waalrescue.org/wp-content/uploads/2026/03/IMG_2823.jpeg
END:VEVENT
BEGIN:VEVENT
DTSTART;TZID=America/Chicago:20271211T113000
DTEND;TZID=America/Chicago:20271211T130000
DTSTAMP:20260423T185927
CREATED:20260310T130446Z
LAST-MODIFIED:20260310T130722Z
UID:10000117-1828524600-1828530000@waalrescue.org
SUMMARY:Join us at Petco West (Maize) for adoptable pets!
DESCRIPTION:Come check out some of our adorable dogs and puppies!  You might just find your new best friend!
URL:https://waalrescue.org/event/join-us-at-petco-west-for-adoptable-pets/2027-12-11/
LOCATION:Petco West\, 2441 N Maize Road\, Suite 1001\, Wichita\, KS\, 67205
ATTACH;FMTTYPE=image/jpeg:https://waalrescue.org/wp-content/uploads/2026/03/IMG_2823.jpeg
END:VEVENT
BEGIN:VEVENT
DTSTART;TZID=America/Chicago:20280108T113000
DTEND;TZID=America/Chicago:20280108T130000
DTSTAMP:20260423T185927
CREATED:20260310T130446Z
LAST-MODIFIED:20260310T130722Z
UID:10000118-1830943800-1830949200@waalrescue.org
SUMMARY:Join us at Petco West (Maize) for adoptable pets!
DESCRIPTION:Come check out some of our adorable dogs and puppies!  You might just find your new best friend!
URL:https://waalrescue.org/event/join-us-at-petco-west-for-adoptable-pets/2028-01-08/
LOCATION:Petco West\, 2441 N Maize Road\, Suite 1001\, Wichita\, KS\, 67205
ATTACH;FMTTYPE=image/jpeg:https://waalrescue.org/wp-content/uploads/2026/03/IMG_2823.jpeg
END:VEVENT
BEGIN:VEVENT
DTSTART;TZID=America/Chicago:20280212T113000
DTEND;TZID=America/Chicago:20280212T130000
DTSTAMP:20260423T185927
CREATED:20260310T130446Z
LAST-MODIFIED:20260310T130722Z
UID:10000119-1833967800-1833973200@waalrescue.org
SUMMARY:Join us at Petco West (Maize) for adoptable pets!
DESCRIPTION:Come check out some of our adorable dogs and puppies!  You might just find your new best friend!
URL:https://waalrescue.org/event/join-us-at-petco-west-for-adoptable-pets/2028-02-12/
LOCATION:Petco West\, 2441 N Maize Road\, Suite 1001\, Wichita\, KS\, 67205
ATTACH;FMTTYPE=image/jpeg:https://waalrescue.org/wp-content/uploads/2026/03/IMG_2823.jpeg
END:VEVENT
BEGIN:VEVENT
DTSTART;TZID=America/Chicago:20280311T113000
DTEND;TZID=America/Chicago:20280311T130000
DTSTAMP:20260423T185927
CREATED:20260310T130446Z
LAST-MODIFIED:20260310T130722Z
UID:10000120-1836387000-1836392400@waalrescue.org
SUMMARY:Join us at Petco West (Maize) for adoptable pets!
DESCRIPTION:Come check out some of our adorable dogs and puppies!  You might just find your new best friend!
URL:https://waalrescue.org/event/join-us-at-petco-west-for-adoptable-pets/2028-03-11/
LOCATION:Petco West\, 2441 N Maize Road\, Suite 1001\, Wichita\, KS\, 67205
ATTACH;FMTTYPE=image/jpeg:https://waalrescue.org/wp-content/uploads/2026/03/IMG_2823.jpeg
END:VEVENT
BEGIN:VEVENT
DTSTART;TZID=America/Chicago:20280408T113000
DTEND;TZID=America/Chicago:20280408T130000
DTSTAMP:20260423T185927
CREATED:20260310T130446Z
LAST-MODIFIED:20260310T130722Z
UID:10000121-1838806200-1838811600@waalrescue.org
SUMMARY:Join us at Petco West (Maize) for adoptable pets!
DESCRIPTION:Come check out some of our adorable dogs and puppies!  You might just find your new best friend!
URL:https://waalrescue.org/event/join-us-at-petco-west-for-adoptable-pets/2028-04-08/
LOCATION:Petco West\, 2441 N Maize Road\, Suite 1001\, Wichita\, KS\, 67205
ATTACH;FMTTYPE=image/jpeg:https://waalrescue.org/wp-content/uploads/2026/03/IMG_2823.jpeg
END:VEVENT
BEGIN:VEVENT
DTSTART;TZID=America/Chicago:20280513T113000
DTEND;TZID=America/Chicago:20280513T130000
DTSTAMP:20260423T185927
CREATED:20260310T130446Z
LAST-MODIFIED:20260310T130722Z
UID:10000122-1841830200-1841835600@waalrescue.org
SUMMARY:Join us at Petco West (Maize) for adoptable pets!
DESCRIPTION:Come check out some of our adorable dogs and puppies!  You might just find your new best friend!
URL:https://waalrescue.org/event/join-us-at-petco-west-for-adoptable-pets/2028-05-13/
LOCATION:Petco West\, 2441 N Maize Road\, Suite 1001\, Wichita\, KS\, 67205
ATTACH;FMTTYPE=image/jpeg:https://waalrescue.org/wp-content/uploads/2026/03/IMG_2823.jpeg
END:VEVENT
BEGIN:VEVENT
DTSTART;TZID=America/Chicago:20280610T113000
DTEND;TZID=America/Chicago:20280610T130000
DTSTAMP:20260423T185927
CREATED:20260310T130446Z
LAST-MODIFIED:20260310T130722Z
UID:10000123-1844249400-1844254800@waalrescue.org
SUMMARY:Join us at Petco West (Maize) for adoptable pets!
DESCRIPTION:Come check out some of our adorable dogs and puppies!  You might just find your new best friend!
URL:https://waalrescue.org/event/join-us-at-petco-west-for-adoptable-pets/2028-06-10/
LOCATION:Petco West\, 2441 N Maize Road\, Suite 1001\, Wichita\, KS\, 67205
ATTACH;FMTTYPE=image/jpeg:https://waalrescue.org/wp-content/uploads/2026/03/IMG_2823.jpeg
END:VEVENT
BEGIN:VEVENT
DTSTART;TZID=America/Chicago:20280708T113000
DTEND;TZID=America/Chicago:20280708T130000
DTSTAMP:20260423T185927
CREATED:20260310T130446Z
LAST-MODIFIED:20260310T130722Z
UID:10000124-1846668600-1846674000@waalrescue.org
SUMMARY:Join us at Petco West (Maize) for adoptable pets!
DESCRIPTION:Come check out some of our adorable dogs and puppies!  You might just find your new best friend!
URL:https://waalrescue.org/event/join-us-at-petco-west-for-adoptable-pets/2028-07-08/
LOCATION:Petco West\, 2441 N Maize Road\, Suite 1001\, Wichita\, KS\, 67205
ATTACH;FMTTYPE=image/jpeg:https://waalrescue.org/wp-content/uploads/2026/03/IMG_2823.jpeg
END:VEVENT
BEGIN:VEVENT
DTSTART;TZID=America/Chicago:20280812T113000
DTEND;TZID=America/Chicago:20280812T130000
DTSTAMP:20260423T185927
CREATED:20260310T130446Z
LAST-MODIFIED:20260310T130722Z
UID:10000125-1849692600-1849698000@waalrescue.org
SUMMARY:Join us at Petco West (Maize) for adoptable pets!
DESCRIPTION:Come check out some of our adorable dogs and puppies!  You might just find your new best friend!
URL:https://waalrescue.org/event/join-us-at-petco-west-for-adoptable-pets/2028-08-12/
LOCATION:Petco West\, 2441 N Maize Road\, Suite 1001\, Wichita\, KS\, 67205
ATTACH;FMTTYPE=image/jpeg:https://waalrescue.org/wp-content/uploads/2026/03/IMG_2823.jpeg
END:VEVENT
BEGIN:VEVENT
DTSTART;TZID=America/Chicago:20280909T113000
DTEND;TZID=America/Chicago:20280909T130000
DTSTAMP:20260423T185927
CREATED:20260310T130446Z
LAST-MODIFIED:20260310T130722Z
UID:10000126-1852111800-1852117200@waalrescue.org
SUMMARY:Join us at Petco West (Maize) for adoptable pets!
DESCRIPTION:Come check out some of our adorable dogs and puppies!  You might just find your new best friend!
URL:https://waalrescue.org/event/join-us-at-petco-west-for-adoptable-pets/2028-09-09/
LOCATION:Petco West\, 2441 N Maize Road\, Suite 1001\, Wichita\, KS\, 67205
ATTACH;FMTTYPE=image/jpeg:https://waalrescue.org/wp-content/uploads/2026/03/IMG_2823.jpeg
END:VEVENT
BEGIN:VEVENT
DTSTART;TZID=America/Chicago:20281014T113000
DTEND;TZID=America/Chicago:20281014T130000
DTSTAMP:20260423T185927
CREATED:20260310T130446Z
LAST-MODIFIED:20260310T130722Z
UID:10000127-1855135800-1855141200@waalrescue.org
SUMMARY:Join us at Petco West (Maize) for adoptable pets!
DESCRIPTION:Come check out some of our adorable dogs and puppies!  You might just find your new best friend!
URL:https://waalrescue.org/event/join-us-at-petco-west-for-adoptable-pets/2028-10-14/
LOCATION:Petco West\, 2441 N Maize Road\, Suite 1001\, Wichita\, KS\, 67205
ATTACH;FMTTYPE=image/jpeg:https://waalrescue.org/wp-content/uploads/2026/03/IMG_2823.jpeg
END:VEVENT
BEGIN:VEVENT
DTSTART;TZID=America/Chicago:20281111T113000
DTEND;TZID=America/Chicago:20281111T130000
DTSTAMP:20260423T185927
CREATED:20260310T130446Z
LAST-MODIFIED:20260310T130722Z
UID:10000128-1857555000-1857560400@waalrescue.org
SUMMARY:Join us at Petco West (Maize) for adoptable pets!
DESCRIPTION:Come check out some of our adorable dogs and puppies!  You might just find your new best friend!
URL:https://waalrescue.org/event/join-us-at-petco-west-for-adoptable-pets/2028-11-11/
LOCATION:Petco West\, 2441 N Maize Road\, Suite 1001\, Wichita\, KS\, 67205
ATTACH;FMTTYPE=image/jpeg:https://waalrescue.org/wp-content/uploads/2026/03/IMG_2823.jpeg
END:VEVENT
BEGIN:VEVENT
DTSTART;TZID=America/Chicago:20281209T113000
DTEND;TZID=America/Chicago:20281209T130000
DTSTAMP:20260423T185927
CREATED:20260310T130446Z
LAST-MODIFIED:20260310T130722Z
UID:10000129-1859974200-1859979600@waalrescue.org
SUMMARY:Join us at Petco West (Maize) for adoptable pets!
DESCRIPTION:Come check out some of our adorable dogs and puppies!  You might just find your new best friend!
URL:https://waalrescue.org/event/join-us-at-petco-west-for-adoptable-pets/2028-12-09/
LOCATION:Petco West\, 2441 N Maize Road\, Suite 1001\, Wichita\, KS\, 67205
ATTACH;FMTTYPE=image/jpeg:https://waalrescue.org/wp-content/uploads/2026/03/IMG_2823.jpeg
END:VEVENT
BEGIN:VEVENT
DTSTART;TZID=America/Chicago:20290113T113000
DTEND;TZID=America/Chicago:20290113T130000
DTSTAMP:20260423T185927
CREATED:20260310T130446Z
LAST-MODIFIED:20260310T130722Z
UID:10000130-1862998200-1863003600@waalrescue.org
SUMMARY:Join us at Petco West (Maize) for adoptable pets!
DESCRIPTION:Come check out some of our adorable dogs and puppies!  You might just find your new best friend!
URL:https://waalrescue.org/event/join-us-at-petco-west-for-adoptable-pets/2029-01-13/
LOCATION:Petco West\, 2441 N Maize Road\, Suite 1001\, Wichita\, KS\, 67205
ATTACH;FMTTYPE=image/jpeg:https://waalrescue.org/wp-content/uploads/2026/03/IMG_2823.jpeg
END:VEVENT
BEGIN:VEVENT
DTSTART;TZID=America/Chicago:20290210T113000
DTEND;TZID=America/Chicago:20290210T130000
DTSTAMP:20260423T185927
CREATED:20260310T130446Z
LAST-MODIFIED:20260310T130722Z
UID:10000131-1865417400-1865422800@waalrescue.org
SUMMARY:Join us at Petco West (Maize) for adoptable pets!
DESCRIPTION:Come check out some of our adorable dogs and puppies!  You might just find your new best friend!
URL:https://waalrescue.org/event/join-us-at-petco-west-for-adoptable-pets/2029-02-10/
LOCATION:Petco West\, 2441 N Maize Road\, Suite 1001\, Wichita\, KS\, 67205
ATTACH;FMTTYPE=image/jpeg:https://waalrescue.org/wp-content/uploads/2026/03/IMG_2823.jpeg
END:VEVENT
BEGIN:VEVENT
DTSTART;TZID=America/Chicago:20290310T113000
DTEND;TZID=America/Chicago:20290310T130000
DTSTAMP:20260423T185927
CREATED:20260310T130446Z
LAST-MODIFIED:20260310T130722Z
UID:10000132-1867836600-1867842000@waalrescue.org
SUMMARY:Join us at Petco West (Maize) for adoptable pets!
DESCRIPTION:Come check out some of our adorable dogs and puppies!  You might just find your new best friend!
URL:https://waalrescue.org/event/join-us-at-petco-west-for-adoptable-pets/2029-03-10/
LOCATION:Petco West\, 2441 N Maize Road\, Suite 1001\, Wichita\, KS\, 67205
ATTACH;FMTTYPE=image/jpeg:https://waalrescue.org/wp-content/uploads/2026/03/IMG_2823.jpeg
END:VEVENT
BEGIN:VEVENT
DTSTART;TZID=America/Chicago:20290414T113000
DTEND;TZID=America/Chicago:20290414T130000
DTSTAMP:20260423T185927
CREATED:20260310T130446Z
LAST-MODIFIED:20260310T130722Z
UID:10000133-1870860600-1870866000@waalrescue.org
SUMMARY:Join us at Petco West (Maize) for adoptable pets!
DESCRIPTION:Come check out some of our adorable dogs and puppies!  You might just find your new best friend!
URL:https://waalrescue.org/event/join-us-at-petco-west-for-adoptable-pets/2029-04-14/
LOCATION:Petco West\, 2441 N Maize Road\, Suite 1001\, Wichita\, KS\, 67205
ATTACH;FMTTYPE=image/jpeg:https://waalrescue.org/wp-content/uploads/2026/03/IMG_2823.jpeg
END:VEVENT
BEGIN:VEVENT
DTSTART;TZID=America/Chicago:20290512T113000
DTEND;TZID=America/Chicago:20290512T130000
DTSTAMP:20260423T185927
CREATED:20260310T130446Z
LAST-MODIFIED:20260310T130722Z
UID:10000134-1873279800-1873285200@waalrescue.org
SUMMARY:Join us at Petco West (Maize) for adoptable pets!
DESCRIPTION:Come check out some of our adorable dogs and puppies!  You might just find your new best friend!
URL:https://waalrescue.org/event/join-us-at-petco-west-for-adoptable-pets/2029-05-12/
LOCATION:Petco West\, 2441 N Maize Road\, Suite 1001\, Wichita\, KS\, 67205
ATTACH;FMTTYPE=image/jpeg:https://waalrescue.org/wp-content/uploads/2026/03/IMG_2823.jpeg
END:VEVENT
BEGIN:VEVENT
DTSTART;TZID=America/Chicago:20290609T113000
DTEND;TZID=America/Chicago:20290609T130000
DTSTAMP:20260423T185927
CREATED:20260310T130446Z
LAST-MODIFIED:20260310T130722Z
UID:10000135-1875699000-1875704400@waalrescue.org
SUMMARY:Join us at Petco West (Maize) for adoptable pets!
DESCRIPTION:Come check out some of our adorable dogs and puppies!  You might just find your new best friend!
URL:https://waalrescue.org/event/join-us-at-petco-west-for-adoptable-pets/2029-06-09/
LOCATION:Petco West\, 2441 N Maize Road\, Suite 1001\, Wichita\, KS\, 67205
ATTACH;FMTTYPE=image/jpeg:https://waalrescue.org/wp-content/uploads/2026/03/IMG_2823.jpeg
END:VEVENT
BEGIN:VEVENT
DTSTART;TZID=America/Chicago:20290714T113000
DTEND;TZID=America/Chicago:20290714T130000
DTSTAMP:20260423T185927
CREATED:20260310T130446Z
LAST-MODIFIED:20260310T130722Z
UID:10000136-1878723000-1878728400@waalrescue.org
SUMMARY:Join us at Petco West (Maize) for adoptable pets!
DESCRIPTION:Come check out some of our adorable dogs and puppies!  You might just find your new best friend!
URL:https://waalrescue.org/event/join-us-at-petco-west-for-adoptable-pets/2029-07-14/
LOCATION:Petco West\, 2441 N Maize Road\, Suite 1001\, Wichita\, KS\, 67205
ATTACH;FMTTYPE=image/jpeg:https://waalrescue.org/wp-content/uploads/2026/03/IMG_2823.jpeg
END:VEVENT
BEGIN:VEVENT
DTSTART;TZID=America/Chicago:20290811T113000
DTEND;TZID=America/Chicago:20290811T130000
DTSTAMP:20260423T185927
CREATED:20260310T130446Z
LAST-MODIFIED:20260310T130722Z
UID:10000137-1881142200-1881147600@waalrescue.org
SUMMARY:Join us at Petco West (Maize) for adoptable pets!
DESCRIPTION:Come check out some of our adorable dogs and puppies!  You might just find your new best friend!
URL:https://waalrescue.org/event/join-us-at-petco-west-for-adoptable-pets/2029-08-11/
LOCATION:Petco West\, 2441 N Maize Road\, Suite 1001\, Wichita\, KS\, 67205
ATTACH;FMTTYPE=image/jpeg:https://waalrescue.org/wp-content/uploads/2026/03/IMG_2823.jpeg
END:VEVENT
BEGIN:VEVENT
DTSTART;TZID=America/Chicago:20290908T113000
DTEND;TZID=America/Chicago:20290908T130000
DTSTAMP:20260423T185927
CREATED:20260310T130446Z
LAST-MODIFIED:20260310T130722Z
UID:10000138-1883561400-1883566800@waalrescue.org
SUMMARY:Join us at Petco West (Maize) for adoptable pets!
DESCRIPTION:Come check out some of our adorable dogs and puppies!  You might just find your new best friend!
URL:https://waalrescue.org/event/join-us-at-petco-west-for-adoptable-pets/2029-09-08/
LOCATION:Petco West\, 2441 N Maize Road\, Suite 1001\, Wichita\, KS\, 67205
ATTACH;FMTTYPE=image/jpeg:https://waalrescue.org/wp-content/uploads/2026/03/IMG_2823.jpeg
END:VEVENT
BEGIN:VEVENT
DTSTART;TZID=America/Chicago:20291013T113000
DTEND;TZID=America/Chicago:20291013T130000
DTSTAMP:20260423T185927
CREATED:20260310T130446Z
LAST-MODIFIED:20260310T130722Z
UID:10000139-1886585400-1886590800@waalrescue.org
SUMMARY:Join us at Petco West (Maize) for adoptable pets!
DESCRIPTION:Come check out some of our adorable dogs and puppies!  You might just find your new best friend!
URL:https://waalrescue.org/event/join-us-at-petco-west-for-adoptable-pets/2029-10-13/
LOCATION:Petco West\, 2441 N Maize Road\, Suite 1001\, Wichita\, KS\, 67205
ATTACH;FMTTYPE=image/jpeg:https://waalrescue.org/wp-content/uploads/2026/03/IMG_2823.jpeg
END:VEVENT
BEGIN:VEVENT
DTSTART;TZID=America/Chicago:20291110T113000
DTEND;TZID=America/Chicago:20291110T130000
DTSTAMP:20260423T185927
CREATED:20260310T130446Z
LAST-MODIFIED:20260310T130722Z
UID:10000140-1889004600-1889010000@waalrescue.org
SUMMARY:Join us at Petco West (Maize) for adoptable pets!
DESCRIPTION:Come check out some of our adorable dogs and puppies!  You might just find your new best friend!
URL:https://waalrescue.org/event/join-us-at-petco-west-for-adoptable-pets/2029-11-10/
LOCATION:Petco West\, 2441 N Maize Road\, Suite 1001\, Wichita\, KS\, 67205
ATTACH;FMTTYPE=image/jpeg:https://waalrescue.org/wp-content/uploads/2026/03/IMG_2823.jpeg
END:VEVENT
BEGIN:VEVENT
DTSTART;TZID=America/Chicago:20291208T113000
DTEND;TZID=America/Chicago:20291208T130000
DTSTAMP:20260423T185927
CREATED:20260310T130446Z
LAST-MODIFIED:20260310T130722Z
UID:10000141-1891423800-1891429200@waalrescue.org
SUMMARY:Join us at Petco West (Maize) for adoptable pets!
DESCRIPTION:Come check out some of our adorable dogs and puppies!  You might just find your new best friend!
URL:https://waalrescue.org/event/join-us-at-petco-west-for-adoptable-pets/2029-12-08/
LOCATION:Petco West\, 2441 N Maize Road\, Suite 1001\, Wichita\, KS\, 67205
ATTACH;FMTTYPE=image/jpeg:https://waalrescue.org/wp-content/uploads/2026/03/IMG_2823.jpeg
END:VEVENT
BEGIN:VEVENT
DTSTART;TZID=America/Chicago:20300112T113000
DTEND;TZID=America/Chicago:20300112T130000
DTSTAMP:20260423T185927
CREATED:20260310T130446Z
LAST-MODIFIED:20260310T130722Z
UID:10000142-1894447800-1894453200@waalrescue.org
SUMMARY:Join us at Petco West (Maize) for adoptable pets!
DESCRIPTION:Come check out some of our adorable dogs and puppies!  You might just find your new best friend!
URL:https://waalrescue.org/event/join-us-at-petco-west-for-adoptable-pets/2030-01-12/
LOCATION:Petco West\, 2441 N Maize Road\, Suite 1001\, Wichita\, KS\, 67205
ATTACH;FMTTYPE=image/jpeg:https://waalrescue.org/wp-content/uploads/2026/03/IMG_2823.jpeg
END:VEVENT
BEGIN:VEVENT
DTSTART;TZID=America/Chicago:20300209T113000
DTEND;TZID=America/Chicago:20300209T130000
DTSTAMP:20260423T185927
CREATED:20260310T130446Z
LAST-MODIFIED:20260310T130722Z
UID:10000143-1896867000-1896872400@waalrescue.org
SUMMARY:Join us at Petco West (Maize) for adoptable pets!
DESCRIPTION:Come check out some of our adorable dogs and puppies!  You might just find your new best friend!
URL:https://waalrescue.org/event/join-us-at-petco-west-for-adoptable-pets/2030-02-09/
LOCATION:Petco West\, 2441 N Maize Road\, Suite 1001\, Wichita\, KS\, 67205
ATTACH;FMTTYPE=image/jpeg:https://waalrescue.org/wp-content/uploads/2026/03/IMG_2823.jpeg
END:VEVENT
BEGIN:VEVENT
DTSTART;TZID=America/Chicago:20300309T113000
DTEND;TZID=America/Chicago:20300309T130000
DTSTAMP:20260423T185927
CREATED:20260310T130446Z
LAST-MODIFIED:20260310T130722Z
UID:10000144-1899286200-1899291600@waalrescue.org
SUMMARY:Join us at Petco West (Maize) for adoptable pets!
DESCRIPTION:Come check out some of our adorable dogs and puppies!  You might just find your new best friend!
URL:https://waalrescue.org/event/join-us-at-petco-west-for-adoptable-pets/2030-03-09/
LOCATION:Petco West\, 2441 N Maize Road\, Suite 1001\, Wichita\, KS\, 67205
ATTACH;FMTTYPE=image/jpeg:https://waalrescue.org/wp-content/uploads/2026/03/IMG_2823.jpeg
END:VEVENT
END:VCALENDAR