BEGIN:VCALENDAR
VERSION:2.0
PRODID:-//Wichita Animal Action League - ECPv6.15.15//NONSGML v1.0//EN
CALSCALE:GREGORIAN
METHOD:PUBLISH
X-ORIGINAL-URL:https://waalrescue.org
X-WR-CALDESC:Events for Wichita Animal Action League
REFRESH-INTERVAL;VALUE=DURATION:PT1H
X-Robots-Tag:noindex
X-PUBLISHED-TTL:PT1H
BEGIN:VTIMEZONE
TZID:America/Chicago
BEGIN:DAYLIGHT
TZOFFSETFROM:-0600
TZOFFSETTO:-0500
TZNAME:CDT
DTSTART:20240310T080000
END:DAYLIGHT
BEGIN:STANDARD
TZOFFSETFROM:-0500
TZOFFSETTO:-0600
TZNAME:CST
DTSTART:20241103T070000
END:STANDARD
BEGIN:DAYLIGHT
TZOFFSETFROM:-0600
TZOFFSETTO:-0500
TZNAME:CDT
DTSTART:20250309T080000
END:DAYLIGHT
BEGIN:STANDARD
TZOFFSETFROM:-0500
TZOFFSETTO:-0600
TZNAME:CST
DTSTART:20251102T070000
END:STANDARD
BEGIN:DAYLIGHT
TZOFFSETFROM:-0600
TZOFFSETTO:-0500
TZNAME:CDT
DTSTART:20260308T080000
END:DAYLIGHT
BEGIN:STANDARD
TZOFFSETFROM:-0500
TZOFFSETTO:-0600
TZNAME:CST
DTSTART:20261101T070000
END:STANDARD
END:VTIMEZONE
BEGIN:VEVENT
DTSTART;TZID=America/Chicago:20251221T120000
DTEND;TZID=America/Chicago:20251221T160000
DTSTAMP:20260423T185056
CREATED:20251211T220722Z
LAST-MODIFIED:20251211T221445Z
UID:10000005-1766318400-1766332800@waalrescue.org
SUMMARY:Gift Wrapping at Towne East Mall
DESCRIPTION:Is gift wrapping right up there on your "all-time favorites" list with a root canal and scrubbing your toilet? Let us take this chore off your plate!\nWe will be wrapping Christmas gifts for donations at Towne East Mall on the lower level just outside of JCP (indoors)! Stop by\, drop them off\, and enjoy some time in the food court while we make them snazzy looking!\nCash\, card\, VENMO accepted!
URL:https://waalrescue.org/event/gift-wrapping-at-towne-east-mall/2025-12-21/
LOCATION:Towne East Mall\, 7700 E Kellogg Dr\, Wichita\, 67207\, United States
ATTACH;FMTTYPE=image/jpeg:https://waalrescue.org/wp-content/uploads/2025/12/Gift-Wrapping.jpg
END:VEVENT
BEGIN:VEVENT
DTSTART;TZID=America/Chicago:20251220T100000
DTEND;TZID=America/Chicago:20251220T160000
DTSTAMP:20260423T185056
CREATED:20251211T220722Z
LAST-MODIFIED:20251211T221445Z
UID:10000004-1766224800-1766246400@waalrescue.org
SUMMARY:Gift Wrapping at Towne East Mall
DESCRIPTION:Is gift wrapping right up there on your "all-time favorites" list with a root canal and scrubbing your toilet? Let us take this chore off your plate!\nWe will be wrapping Christmas gifts for donations at Towne East Mall on the lower level just outside of JCP (indoors)! Stop by\, drop them off\, and enjoy some time in the food court while we make them snazzy looking!\nCash\, card\, VENMO accepted!
URL:https://waalrescue.org/event/gift-wrapping-at-towne-east-mall/2025-12-20/
LOCATION:Towne East Mall\, 7700 E Kellogg Dr\, Wichita\, 67207\, United States
ATTACH;FMTTYPE=image/jpeg:https://waalrescue.org/wp-content/uploads/2025/12/Gift-Wrapping.jpg
END:VEVENT
BEGIN:VEVENT
DTSTART;TZID=America/Chicago:20251217T100000
DTEND;TZID=America/Chicago:20251217T140000
DTSTAMP:20260423T185056
CREATED:20251211T223800Z
LAST-MODIFIED:20251215T213217Z
UID:10000067-1765965600-1765980000@waalrescue.org
SUMMARY:ALPHA Clinic
DESCRIPTION:ALPHA is designed for low-income families whose pets are in need of urgent care type services\, vaccines\, or wellness exams. This might include: ear infections\, lameness\, skin issues\, injuries\, etc.\nThis is a first come-first serve clinic and walk-ins will be accepted until 1:30pm. We cannot guarantee that everyone who comes will be seen. Please plan for a wait so bring water\, chairs\, etc.\nDogs must be on leashes and cats in carriers.The same pet will only be seen once per quarter.A maximum of two pets per household.\nThere is a $30 copay per pet.Questions? Please email us at rescue@waalrescue.org.\nThank you to K-State Veterinary School for allowing us to have these integral clinics!
URL:https://waalrescue.org/event/alpha-clinic/
LOCATION:Osage Park\, 2121 W 31st St. S\, Wichita\, 67217\, United States
CATEGORIES:ALPHA Clinic
ATTACH;FMTTYPE=image/jpeg:https://waalrescue.org/wp-content/uploads/2025/12/alpha-clinic.jpg
END:VEVENT
BEGIN:VEVENT
DTSTART;TZID=America/Chicago:20251214T120000
DTEND;TZID=America/Chicago:20251214T160000
DTSTAMP:20260423T185056
CREATED:20251211T220722Z
LAST-MODIFIED:20251211T221445Z
UID:10000003-1765713600-1765728000@waalrescue.org
SUMMARY:Gift Wrapping at Towne East Mall
DESCRIPTION:Is gift wrapping right up there on your "all-time favorites" list with a root canal and scrubbing your toilet? Let us take this chore off your plate!\nWe will be wrapping Christmas gifts for donations at Towne East Mall on the lower level just outside of JCP (indoors)! Stop by\, drop them off\, and enjoy some time in the food court while we make them snazzy looking!\nCash\, card\, VENMO accepted!
URL:https://waalrescue.org/event/gift-wrapping-at-towne-east-mall/2025-12-14/
LOCATION:Towne East Mall\, 7700 E Kellogg Dr\, Wichita\, 67207\, United States
ATTACH;FMTTYPE=image/jpeg:https://waalrescue.org/wp-content/uploads/2025/12/Gift-Wrapping.jpg
END:VEVENT
BEGIN:VEVENT
DTSTART;TZID=America/Chicago:20251213T110000
DTEND;TZID=America/Chicago:20251213T150000
DTSTAMP:20260423T185056
CREATED:20251211T223510Z
LAST-MODIFIED:20251211T223510Z
UID:10000066-1765623600-1765638000@waalrescue.org
SUMMARY:Claus and Paws at Snick's Cat Cafe
DESCRIPTION:We are helping advertise for our friends at Snicks! Please give them a call at 316-444-1034 with any questions!\n*Free pictures with Santa!*BOGO hot chocolate!*Free candy canes!*Free holiday craft project for the kiddos!*Hang out with a bunch of cool cats! (with paid entry fee and reservation at https://www.snickscatcafe.com/)- you can also have your photo taken with Santa AND the cats!
URL:https://waalrescue.org/event/claus-and-paws-at-snicks-cat-cafe/
LOCATION:Snick's Cat Cafe\, 8336 E 21st St N Suite 600\, Wichita\, 67206\, United States
ATTACH;FMTTYPE=image/jpeg:https://waalrescue.org/wp-content/uploads/2025/12/claus-and-paws.jpg
END:VEVENT
BEGIN:VEVENT
DTSTART;TZID=America/Chicago:20251213T100000
DTEND;TZID=America/Chicago:20251213T160000
DTSTAMP:20260423T185056
CREATED:20251211T220722Z
LAST-MODIFIED:20251211T221445Z
UID:10000002-1765620000-1765641600@waalrescue.org
SUMMARY:Gift Wrapping at Towne East Mall
DESCRIPTION:Is gift wrapping right up there on your "all-time favorites" list with a root canal and scrubbing your toilet? Let us take this chore off your plate!\nWe will be wrapping Christmas gifts for donations at Towne East Mall on the lower level just outside of JCP (indoors)! Stop by\, drop them off\, and enjoy some time in the food court while we make them snazzy looking!\nCash\, card\, VENMO accepted!
URL:https://waalrescue.org/event/gift-wrapping-at-towne-east-mall/2025-12-13/
LOCATION:Towne East Mall\, 7700 E Kellogg Dr\, Wichita\, 67207\, United States
ATTACH;FMTTYPE=image/jpeg:https://waalrescue.org/wp-content/uploads/2025/12/Gift-Wrapping.jpg
END:VEVENT
BEGIN:VEVENT
DTSTART;TZID=America/Chicago:20251213T100000
DTEND;TZID=America/Chicago:20251213T120000
DTSTAMP:20260423T185056
CREATED:20251211T220423Z
LAST-MODIFIED:20251215T205825Z
UID:10000001-1765620000-1765627200@waalrescue.org
SUMMARY:Puppy Paddle at WSU
DESCRIPTION:Do you have a pup who loves the water?! Here’s your last chance to let them get in some swim time before it gets super cold!\nThank you to WSU for inviting us to this awesome event! Attendance is free\, but donations are always accepted so we can continue to help pets in need!\nSo\, bring some towels\, a tennis ball\, a snack\, and maybe a donation if you can and join us at the Puppy Paddle! 
URL:https://waalrescue.org/event/puppy-paddle-at-wsu/
LOCATION:Wichita State University - Heskett Center\, 1845 Fairmount St\, Wichita\, 67260\, United States
END:VEVENT
END:VCALENDAR