BEGIN:VCALENDAR
VERSION:2.0
PRODID:-//Wichita Animal Action League - ECPv6.15.15//NONSGML v1.0//EN
CALSCALE:GREGORIAN
METHOD:PUBLISH
X-WR-CALNAME:Wichita Animal Action League
X-ORIGINAL-URL:https://waalrescue.org
X-WR-CALDESC:Events for Wichita Animal Action League
REFRESH-INTERVAL;VALUE=DURATION:PT1H
X-Robots-Tag:noindex
X-PUBLISHED-TTL:PT1H
BEGIN:VTIMEZONE
TZID:America/Chicago
BEGIN:DAYLIGHT
TZOFFSETFROM:-0600
TZOFFSETTO:-0500
TZNAME:CDT
DTSTART:20250309T080000
END:DAYLIGHT
BEGIN:STANDARD
TZOFFSETFROM:-0500
TZOFFSETTO:-0600
TZNAME:CST
DTSTART:20251102T070000
END:STANDARD
BEGIN:DAYLIGHT
TZOFFSETFROM:-0600
TZOFFSETTO:-0500
TZNAME:CDT
DTSTART:20260308T080000
END:DAYLIGHT
BEGIN:STANDARD
TZOFFSETFROM:-0500
TZOFFSETTO:-0600
TZNAME:CST
DTSTART:20261101T070000
END:STANDARD
BEGIN:DAYLIGHT
TZOFFSETFROM:-0600
TZOFFSETTO:-0500
TZNAME:CDT
DTSTART:20270314T080000
END:DAYLIGHT
BEGIN:STANDARD
TZOFFSETFROM:-0500
TZOFFSETTO:-0600
TZNAME:CST
DTSTART:20271107T070000
END:STANDARD
BEGIN:DAYLIGHT
TZOFFSETFROM:-0600
TZOFFSETTO:-0500
TZNAME:CDT
DTSTART:20280312T080000
END:DAYLIGHT
BEGIN:STANDARD
TZOFFSETFROM:-0500
TZOFFSETTO:-0600
TZNAME:CST
DTSTART:20281105T070000
END:STANDARD
END:VTIMEZONE
BEGIN:VEVENT
DTSTART;TZID=America/Chicago:20270911T113000
DTEND;TZID=America/Chicago:20270911T130000
DTSTAMP:20260425T095739
CREATED:20260310T130446Z
LAST-MODIFIED:20260310T130722Z
UID:10000114-1820662200-1820667600@waalrescue.org
SUMMARY:Join us at Petco West (Maize) for adoptable pets!
DESCRIPTION:Come check out some of our adorable dogs and puppies!  You might just find your new best friend!
URL:https://waalrescue.org/event/join-us-at-petco-west-for-adoptable-pets/2027-09-11/
LOCATION:Petco West\, 2441 N Maize Road\, Suite 1001\, Wichita\, KS\, 67205
ATTACH;FMTTYPE=image/jpeg:https://waalrescue.org/wp-content/uploads/2026/03/IMG_2823.jpeg
END:VEVENT
BEGIN:VEVENT
DTSTART;TZID=America/Chicago:20270814T113000
DTEND;TZID=America/Chicago:20270814T130000
DTSTAMP:20260425T095739
CREATED:20260310T130446Z
LAST-MODIFIED:20260310T130722Z
UID:10000113-1818243000-1818248400@waalrescue.org
SUMMARY:Join us at Petco West (Maize) for adoptable pets!
DESCRIPTION:Come check out some of our adorable dogs and puppies!  You might just find your new best friend!
URL:https://waalrescue.org/event/join-us-at-petco-west-for-adoptable-pets/2027-08-14/
LOCATION:Petco West\, 2441 N Maize Road\, Suite 1001\, Wichita\, KS\, 67205
ATTACH;FMTTYPE=image/jpeg:https://waalrescue.org/wp-content/uploads/2026/03/IMG_2823.jpeg
END:VEVENT
BEGIN:VEVENT
DTSTART;TZID=America/Chicago:20270710T113000
DTEND;TZID=America/Chicago:20270710T130000
DTSTAMP:20260425T095739
CREATED:20260310T130446Z
LAST-MODIFIED:20260310T130722Z
UID:10000112-1815219000-1815224400@waalrescue.org
SUMMARY:Join us at Petco West (Maize) for adoptable pets!
DESCRIPTION:Come check out some of our adorable dogs and puppies!  You might just find your new best friend!
URL:https://waalrescue.org/event/join-us-at-petco-west-for-adoptable-pets/2027-07-10/
LOCATION:Petco West\, 2441 N Maize Road\, Suite 1001\, Wichita\, KS\, 67205
ATTACH;FMTTYPE=image/jpeg:https://waalrescue.org/wp-content/uploads/2026/03/IMG_2823.jpeg
END:VEVENT
BEGIN:VEVENT
DTSTART;TZID=America/Chicago:20270612T113000
DTEND;TZID=America/Chicago:20270612T130000
DTSTAMP:20260425T095739
CREATED:20260310T130446Z
LAST-MODIFIED:20260310T130722Z
UID:10000111-1812799800-1812805200@waalrescue.org
SUMMARY:Join us at Petco West (Maize) for adoptable pets!
DESCRIPTION:Come check out some of our adorable dogs and puppies!  You might just find your new best friend!
URL:https://waalrescue.org/event/join-us-at-petco-west-for-adoptable-pets/2027-06-12/
LOCATION:Petco West\, 2441 N Maize Road\, Suite 1001\, Wichita\, KS\, 67205
ATTACH;FMTTYPE=image/jpeg:https://waalrescue.org/wp-content/uploads/2026/03/IMG_2823.jpeg
END:VEVENT
BEGIN:VEVENT
DTSTART;TZID=America/Chicago:20270508T113000
DTEND;TZID=America/Chicago:20270508T130000
DTSTAMP:20260425T095739
CREATED:20260310T130446Z
LAST-MODIFIED:20260310T130722Z
UID:10000110-1809775800-1809781200@waalrescue.org
SUMMARY:Join us at Petco West (Maize) for adoptable pets!
DESCRIPTION:Come check out some of our adorable dogs and puppies!  You might just find your new best friend!
URL:https://waalrescue.org/event/join-us-at-petco-west-for-adoptable-pets/2027-05-08/
LOCATION:Petco West\, 2441 N Maize Road\, Suite 1001\, Wichita\, KS\, 67205
ATTACH;FMTTYPE=image/jpeg:https://waalrescue.org/wp-content/uploads/2026/03/IMG_2823.jpeg
END:VEVENT
BEGIN:VEVENT
DTSTART;TZID=America/Chicago:20270410T113000
DTEND;TZID=America/Chicago:20270410T130000
DTSTAMP:20260425T095739
CREATED:20260310T130446Z
LAST-MODIFIED:20260310T130722Z
UID:10000109-1807356600-1807362000@waalrescue.org
SUMMARY:Join us at Petco West (Maize) for adoptable pets!
DESCRIPTION:Come check out some of our adorable dogs and puppies!  You might just find your new best friend!
URL:https://waalrescue.org/event/join-us-at-petco-west-for-adoptable-pets/2027-04-10/
LOCATION:Petco West\, 2441 N Maize Road\, Suite 1001\, Wichita\, KS\, 67205
ATTACH;FMTTYPE=image/jpeg:https://waalrescue.org/wp-content/uploads/2026/03/IMG_2823.jpeg
END:VEVENT
BEGIN:VEVENT
DTSTART;TZID=America/Chicago:20270313T113000
DTEND;TZID=America/Chicago:20270313T130000
DTSTAMP:20260425T095739
CREATED:20260310T130446Z
LAST-MODIFIED:20260310T130722Z
UID:10000108-1804937400-1804942800@waalrescue.org
SUMMARY:Join us at Petco West (Maize) for adoptable pets!
DESCRIPTION:Come check out some of our adorable dogs and puppies!  You might just find your new best friend!
URL:https://waalrescue.org/event/join-us-at-petco-west-for-adoptable-pets/2027-03-13/
LOCATION:Petco West\, 2441 N Maize Road\, Suite 1001\, Wichita\, KS\, 67205
ATTACH;FMTTYPE=image/jpeg:https://waalrescue.org/wp-content/uploads/2026/03/IMG_2823.jpeg
END:VEVENT
BEGIN:VEVENT
DTSTART;TZID=America/Chicago:20270213T113000
DTEND;TZID=America/Chicago:20270213T130000
DTSTAMP:20260425T095739
CREATED:20260310T130446Z
LAST-MODIFIED:20260310T130722Z
UID:10000107-1802518200-1802523600@waalrescue.org
SUMMARY:Join us at Petco West (Maize) for adoptable pets!
DESCRIPTION:Come check out some of our adorable dogs and puppies!  You might just find your new best friend!
URL:https://waalrescue.org/event/join-us-at-petco-west-for-adoptable-pets/2027-02-13/
LOCATION:Petco West\, 2441 N Maize Road\, Suite 1001\, Wichita\, KS\, 67205
ATTACH;FMTTYPE=image/jpeg:https://waalrescue.org/wp-content/uploads/2026/03/IMG_2823.jpeg
END:VEVENT
BEGIN:VEVENT
DTSTART;TZID=America/Chicago:20270109T113000
DTEND;TZID=America/Chicago:20270109T130000
DTSTAMP:20260425T095739
CREATED:20260310T130446Z
LAST-MODIFIED:20260310T130722Z
UID:10000106-1799494200-1799499600@waalrescue.org
SUMMARY:Join us at Petco West (Maize) for adoptable pets!
DESCRIPTION:Come check out some of our adorable dogs and puppies!  You might just find your new best friend!
URL:https://waalrescue.org/event/join-us-at-petco-west-for-adoptable-pets/2027-01-09/
LOCATION:Petco West\, 2441 N Maize Road\, Suite 1001\, Wichita\, KS\, 67205
ATTACH;FMTTYPE=image/jpeg:https://waalrescue.org/wp-content/uploads/2026/03/IMG_2823.jpeg
END:VEVENT
BEGIN:VEVENT
DTSTART;TZID=America/Chicago:20261230T180000
DTEND;TZID=America/Chicago:20261230T200000
DTSTAMP:20260425T095739
CREATED:20251211T221303Z
LAST-MODIFIED:20260225T153036Z
UID:10000089-1798653600-1798660800@waalrescue.org
SUMMARY:Adoptable Dogs at Barks and Brews!
DESCRIPTION:Come and meet adoptable dogs at Barks & Brews!
URL:https://waalrescue.org/event/adoptable-dogs-at-barks-and-brews/2026-12-30/
LOCATION:Barks & Brews\, 1312 E English St\, Wichita\, 67211\, United States
ATTACH;FMTTYPE=image/jpeg:https://waalrescue.org/wp-content/uploads/2025/12/Barks-Brews.jpg
END:VEVENT
BEGIN:VEVENT
DTSTART;TZID=America/Chicago:20261212T113000
DTEND;TZID=America/Chicago:20261212T130000
DTSTAMP:20260425T095739
CREATED:20260310T130446Z
LAST-MODIFIED:20260310T130722Z
UID:10000105-1797075000-1797080400@waalrescue.org
SUMMARY:Join us at Petco West (Maize) for adoptable pets!
DESCRIPTION:Come check out some of our adorable dogs and puppies!  You might just find your new best friend!
URL:https://waalrescue.org/event/join-us-at-petco-west-for-adoptable-pets/2026-12-12/
LOCATION:Petco West\, 2441 N Maize Road\, Suite 1001\, Wichita\, KS\, 67205
ATTACH;FMTTYPE=image/jpeg:https://waalrescue.org/wp-content/uploads/2026/03/IMG_2823.jpeg
END:VEVENT
BEGIN:VEVENT
DTSTART;TZID=America/Chicago:20261125T180000
DTEND;TZID=America/Chicago:20261125T200000
DTSTAMP:20260425T095739
CREATED:20251211T221303Z
LAST-MODIFIED:20260225T153036Z
UID:10000088-1795629600-1795636800@waalrescue.org
SUMMARY:Adoptable Dogs at Barks and Brews!
DESCRIPTION:Come and meet adoptable dogs at Barks & Brews!
URL:https://waalrescue.org/event/adoptable-dogs-at-barks-and-brews/2026-11-25/
LOCATION:Barks & Brews\, 1312 E English St\, Wichita\, 67211\, United States
ATTACH;FMTTYPE=image/jpeg:https://waalrescue.org/wp-content/uploads/2025/12/Barks-Brews.jpg
END:VEVENT
BEGIN:VEVENT
DTSTART;TZID=America/Chicago:20261114T113000
DTEND;TZID=America/Chicago:20261114T130000
DTSTAMP:20260425T095739
CREATED:20260310T130446Z
LAST-MODIFIED:20260310T130722Z
UID:10000104-1794655800-1794661200@waalrescue.org
SUMMARY:Join us at Petco West (Maize) for adoptable pets!
DESCRIPTION:Come check out some of our adorable dogs and puppies!  You might just find your new best friend!
URL:https://waalrescue.org/event/join-us-at-petco-west-for-adoptable-pets/2026-11-14/
LOCATION:Petco West\, 2441 N Maize Road\, Suite 1001\, Wichita\, KS\, 67205
ATTACH;FMTTYPE=image/jpeg:https://waalrescue.org/wp-content/uploads/2026/03/IMG_2823.jpeg
END:VEVENT
BEGIN:VEVENT
DTSTART;TZID=America/Chicago:20261028T180000
DTEND;TZID=America/Chicago:20261028T200000
DTSTAMP:20260425T095739
CREATED:20251211T221303Z
LAST-MODIFIED:20260225T153036Z
UID:10000087-1793210400-1793217600@waalrescue.org
SUMMARY:Adoptable Dogs at Barks and Brews!
DESCRIPTION:Come and meet adoptable dogs at Barks & Brews!
URL:https://waalrescue.org/event/adoptable-dogs-at-barks-and-brews/2026-10-28/
LOCATION:Barks & Brews\, 1312 E English St\, Wichita\, 67211\, United States
ATTACH;FMTTYPE=image/jpeg:https://waalrescue.org/wp-content/uploads/2025/12/Barks-Brews.jpg
END:VEVENT
BEGIN:VEVENT
DTSTART;TZID=America/Chicago:20261010T113000
DTEND;TZID=America/Chicago:20261010T130000
DTSTAMP:20260425T095739
CREATED:20260310T130446Z
LAST-MODIFIED:20260310T130722Z
UID:10000103-1791631800-1791637200@waalrescue.org
SUMMARY:Join us at Petco West (Maize) for adoptable pets!
DESCRIPTION:Come check out some of our adorable dogs and puppies!  You might just find your new best friend!
URL:https://waalrescue.org/event/join-us-at-petco-west-for-adoptable-pets/2026-10-10/
LOCATION:Petco West\, 2441 N Maize Road\, Suite 1001\, Wichita\, KS\, 67205
ATTACH;FMTTYPE=image/jpeg:https://waalrescue.org/wp-content/uploads/2026/03/IMG_2823.jpeg
END:VEVENT
BEGIN:VEVENT
DTSTART;TZID=America/Chicago:20260930T180000
DTEND;TZID=America/Chicago:20260930T200000
DTSTAMP:20260425T095739
CREATED:20251211T221303Z
LAST-MODIFIED:20260225T153036Z
UID:10000086-1790791200-1790798400@waalrescue.org
SUMMARY:Adoptable Dogs at Barks and Brews!
DESCRIPTION:Come and meet adoptable dogs at Barks & Brews!
URL:https://waalrescue.org/event/adoptable-dogs-at-barks-and-brews/2026-09-30/
LOCATION:Barks & Brews\, 1312 E English St\, Wichita\, 67211\, United States
ATTACH;FMTTYPE=image/jpeg:https://waalrescue.org/wp-content/uploads/2025/12/Barks-Brews.jpg
END:VEVENT
BEGIN:VEVENT
DTSTART;TZID=America/Chicago:20260927T160000
DTEND;TZID=America/Chicago:20260927T193000
DTSTAMP:20260425T095739
CREATED:20260225T153623Z
LAST-MODIFIED:20260225T154836Z
UID:10000079-1790524800-1790537400@waalrescue.org
SUMMARY:Wags & Whiskers
DESCRIPTION:Unleash your inner animal lover with Wags & Whiskers 2026! \nSince 2013\, Wichita Animal Action League has been the driving force in Wichita’s rescue community\, delivering innovative programs for animals and their people. \n\nSpay it Forward – offering low cost spay and neuter services\nALPHA – Affordable Local Pet Health Assistance mobile clinics\nSafe Paws Alliance – temporary foster care for pets in crisis\nPets for Life and Hilltop Initiatives – responsible pet ownership in underserved areas\nRescue & Adoption – providing foster care and adoption for pets\n\nAre you ready to be a hero? Join us and hundreds of fellow animal enthusiasts who are passionate about our furry friends. Help us make Wags & Whiskers 2026 the biggest “paw-ty” of the year! \nTickets go on sale July 1\, 2026!
URL:https://waalrescue.org/event/wags-whiskers/
LOCATION:Century II\, 225 W Douglas Ave\, Wichita\, KS\, 67202\, United States
ATTACH;FMTTYPE=image/jpeg:https://waalrescue.org/wp-content/uploads/2026/02/Wags-2026-Facebook-Cover.jpg
END:VEVENT
BEGIN:VEVENT
DTSTART;TZID=America/Chicago:20260912T113000
DTEND;TZID=America/Chicago:20260912T130000
DTSTAMP:20260425T095739
CREATED:20260310T130446Z
LAST-MODIFIED:20260310T130722Z
UID:10000102-1789212600-1789218000@waalrescue.org
SUMMARY:Join us at Petco West (Maize) for adoptable pets!
DESCRIPTION:Come check out some of our adorable dogs and puppies!  You might just find your new best friend!
URL:https://waalrescue.org/event/join-us-at-petco-west-for-adoptable-pets/2026-09-12/
LOCATION:Petco West\, 2441 N Maize Road\, Suite 1001\, Wichita\, KS\, 67205
ATTACH;FMTTYPE=image/jpeg:https://waalrescue.org/wp-content/uploads/2026/03/IMG_2823.jpeg
END:VEVENT
BEGIN:VEVENT
DTSTART;TZID=America/Chicago:20260826T180000
DTEND;TZID=America/Chicago:20260826T200000
DTSTAMP:20260425T095739
CREATED:20251211T221303Z
LAST-MODIFIED:20260225T153036Z
UID:10000085-1787767200-1787774400@waalrescue.org
SUMMARY:Adoptable Dogs at Barks and Brews!
DESCRIPTION:Come and meet adoptable dogs at Barks & Brews!
URL:https://waalrescue.org/event/adoptable-dogs-at-barks-and-brews/2026-08-26/
LOCATION:Barks & Brews\, 1312 E English St\, Wichita\, 67211\, United States
ATTACH;FMTTYPE=image/jpeg:https://waalrescue.org/wp-content/uploads/2025/12/Barks-Brews.jpg
END:VEVENT
BEGIN:VEVENT
DTSTART;TZID=America/Chicago:20260808T113000
DTEND;TZID=America/Chicago:20260808T130000
DTSTAMP:20260425T095739
CREATED:20260310T130446Z
LAST-MODIFIED:20260310T130722Z
UID:10000101-1786188600-1786194000@waalrescue.org
SUMMARY:Join us at Petco West (Maize) for adoptable pets!
DESCRIPTION:Come check out some of our adorable dogs and puppies!  You might just find your new best friend!
URL:https://waalrescue.org/event/join-us-at-petco-west-for-adoptable-pets/2026-08-08/
LOCATION:Petco West\, 2441 N Maize Road\, Suite 1001\, Wichita\, KS\, 67205
ATTACH;FMTTYPE=image/jpeg:https://waalrescue.org/wp-content/uploads/2026/03/IMG_2823.jpeg
END:VEVENT
BEGIN:VEVENT
DTSTART;TZID=America/Chicago:20260729T180000
DTEND;TZID=America/Chicago:20260729T200000
DTSTAMP:20260425T095739
CREATED:20251211T221303Z
LAST-MODIFIED:20260225T153036Z
UID:10000084-1785348000-1785355200@waalrescue.org
SUMMARY:Adoptable Dogs at Barks and Brews!
DESCRIPTION:Come and meet adoptable dogs at Barks & Brews!
URL:https://waalrescue.org/event/adoptable-dogs-at-barks-and-brews/2026-07-29/
LOCATION:Barks & Brews\, 1312 E English St\, Wichita\, 67211\, United States
ATTACH;FMTTYPE=image/jpeg:https://waalrescue.org/wp-content/uploads/2025/12/Barks-Brews.jpg
END:VEVENT
BEGIN:VEVENT
DTSTART;TZID=America/Chicago:20260711T113000
DTEND;TZID=America/Chicago:20260711T130000
DTSTAMP:20260425T095739
CREATED:20260310T130446Z
LAST-MODIFIED:20260310T130722Z
UID:10000100-1783769400-1783774800@waalrescue.org
SUMMARY:Join us at Petco West (Maize) for adoptable pets!
DESCRIPTION:Come check out some of our adorable dogs and puppies!  You might just find your new best friend!
URL:https://waalrescue.org/event/join-us-at-petco-west-for-adoptable-pets/2026-07-11/
LOCATION:Petco West\, 2441 N Maize Road\, Suite 1001\, Wichita\, KS\, 67205
ATTACH;FMTTYPE=image/jpeg:https://waalrescue.org/wp-content/uploads/2026/03/IMG_2823.jpeg
END:VEVENT
BEGIN:VEVENT
DTSTART;TZID=America/Chicago:20260624T180000
DTEND;TZID=America/Chicago:20260624T200000
DTSTAMP:20260425T095739
CREATED:20251211T221303Z
LAST-MODIFIED:20260225T153036Z
UID:10000083-1782324000-1782331200@waalrescue.org
SUMMARY:Adoptable Dogs at Barks and Brews!
DESCRIPTION:Come and meet adoptable dogs at Barks & Brews!
URL:https://waalrescue.org/event/adoptable-dogs-at-barks-and-brews/2026-06-24/
LOCATION:Barks & Brews\, 1312 E English St\, Wichita\, 67211\, United States
ATTACH;FMTTYPE=image/jpeg:https://waalrescue.org/wp-content/uploads/2025/12/Barks-Brews.jpg
END:VEVENT
BEGIN:VEVENT
DTSTART;TZID=America/Chicago:20260613T113000
DTEND;TZID=America/Chicago:20260613T130000
DTSTAMP:20260425T095739
CREATED:20260310T130446Z
LAST-MODIFIED:20260310T130722Z
UID:10000099-1781350200-1781355600@waalrescue.org
SUMMARY:Join us at Petco West (Maize) for adoptable pets!
DESCRIPTION:Come check out some of our adorable dogs and puppies!  You might just find your new best friend!
URL:https://waalrescue.org/event/join-us-at-petco-west-for-adoptable-pets/2026-06-13/
LOCATION:Petco West\, 2441 N Maize Road\, Suite 1001\, Wichita\, KS\, 67205
ATTACH;FMTTYPE=image/jpeg:https://waalrescue.org/wp-content/uploads/2026/03/IMG_2823.jpeg
END:VEVENT
BEGIN:VEVENT
DTSTART;TZID=America/Chicago:20260606T110000
DTEND;TZID=America/Chicago:20260606T150000
DTSTAMP:20260425T095739
CREATED:20260309T201610Z
LAST-MODIFIED:20260309T201610Z
UID:10000092-1780743600-1780758000@waalrescue.org
SUMMARY:Join us for Adoptable Pets at Highway 54 Pilates West
DESCRIPTION:Join us at one of our favorite and most longtime supporters’ businesses\, Highway 54 Pilates West!!! The owner is an avid animal lover\, and we are honored to have her support!\nPuppies\, kittens\, snacks!! What more could you want?! Drop in and join the fun!\nAs an added bonus\, if you are looking for a new fitness family\, Pilates may be perfect for you! Don’t miss this opportunity to learn more!
URL:https://waalrescue.org/event/join-us-for-adoptable-pets-at-highway-54-pilates-west/
LOCATION:Century II\, 225 W Douglas Ave\, Wichita\, KS\, 67202\, United States
ATTACH;FMTTYPE=image/jpeg:https://waalrescue.org/wp-content/uploads/2026/03/Studio-54-Pilates.jpg
END:VEVENT
BEGIN:VEVENT
DTSTART;TZID=America/Chicago:20260527T180000
DTEND;TZID=America/Chicago:20260527T200000
DTSTAMP:20260425T095739
CREATED:20251211T221303Z
LAST-MODIFIED:20260225T153036Z
UID:10000082-1779904800-1779912000@waalrescue.org
SUMMARY:Adoptable Dogs at Barks and Brews!
DESCRIPTION:Come and meet adoptable dogs at Barks & Brews!
URL:https://waalrescue.org/event/adoptable-dogs-at-barks-and-brews/2026-05-27/
LOCATION:Barks & Brews\, 1312 E English St\, Wichita\, 67211\, United States
ATTACH;FMTTYPE=image/jpeg:https://waalrescue.org/wp-content/uploads/2025/12/Barks-Brews.jpg
END:VEVENT
BEGIN:VEVENT
DTSTART;TZID=America/Chicago:20260523T100000
DTEND;TZID=America/Chicago:20260523T170000
DTSTAMP:20260425T095739
CREATED:20260410T025501Z
LAST-MODIFIED:20260410T025501Z
UID:10000160-1779530400-1779555600@waalrescue.org
SUMMARY:Join WAAL at Time Travelers Vintage Expo!
DESCRIPTION:Time Travelers Vintage Expo is the most diverse traveling vintage market in the United States\, currently visiting 17 cities from coast to coast. Attendees can expect to find a retro wonderland with the absolute best in vintage clothing\, home goods\, retro-inspired handmade\, and more! Our vendors are carefully selected from across the country for a highly curated shopping experience and offer a wide range of styles and price points. We strive to create an inclusive space focused on community\, sustainability\, and creativity while supporting the dreams of 70 - 120 small businesses\, curators\, and artists per show. There is something for every vintage lover at Time Travelers Vintage Expo!
URL:https://waalrescue.org/event/join-waal-at-time-travelers-vintage-expo/
LOCATION:Century II\, 225 W Douglas Ave\, Wichita\, KS\, 67202\, United States
ATTACH;FMTTYPE=image/jpeg:https://waalrescue.org/wp-content/uploads/2026/04/Time-travelers.jpg
END:VEVENT
BEGIN:VEVENT
DTSTART;TZID=America/Chicago:20260509T113000
DTEND;TZID=America/Chicago:20260509T130000
DTSTAMP:20260425T095739
CREATED:20260310T130446Z
LAST-MODIFIED:20260310T130722Z
UID:10000098-1778326200-1778331600@waalrescue.org
SUMMARY:Join us at Petco West (Maize) for adoptable pets!
DESCRIPTION:Come check out some of our adorable dogs and puppies!  You might just find your new best friend!
URL:https://waalrescue.org/event/join-us-at-petco-west-for-adoptable-pets/2026-05-09/
LOCATION:Petco West\, 2441 N Maize Road\, Suite 1001\, Wichita\, KS\, 67205
ATTACH;FMTTYPE=image/jpeg:https://waalrescue.org/wp-content/uploads/2026/03/IMG_2823.jpeg
END:VEVENT
BEGIN:VEVENT
DTSTART;TZID=America/Chicago:20260506T100000
DTEND;TZID=America/Chicago:20260506T120000
DTSTAMP:20260425T095739
CREATED:20260410T025307Z
LAST-MODIFIED:20260410T025307Z
UID:10000159-1778061600-1778068800@waalrescue.org
SUMMARY:ALPHA Clinic
DESCRIPTION:ALPHA clinics are urgent care type clinics designed for low-income families who can't afford services elsewhere. Both dogs and cats are welcome. This is not a surgery or spay/neuter clinic.There is a $30 copay per pet. All dogs must be on leashes and cats in carriers.\nTHIS EVENT IS FIRST COME-FIRST SERVED AND ONLY 20 PETS WILL BE SEEN! We recommend that you come early and expect a wait. You can wait in your vehicle once you check in.\nMust be Sedgwick County residents making less than $50K annual household income.\nQuestions? Please email us at rescue@waalrescue.org.\n*We do reserve the right to triage pets accordingly in order to determine which pets go first. Sick/injured pets will receive priority over vaccine-only appointments.
URL:https://waalrescue.org/event/alpha-clinic-5/
LOCATION:Linwood Park\, 1902 S. Hydraulic Ave\, Wichita\, KS\, 67201\, United States
ATTACH;FMTTYPE=image/jpeg:https://waalrescue.org/wp-content/uploads/2026/04/ALPHA-May-6.jpg
END:VEVENT
BEGIN:VEVENT
DTSTART;TZID=America/Chicago:20260429T180000
DTEND;TZID=America/Chicago:20260429T200000
DTSTAMP:20260425T095739
CREATED:20251211T221303Z
LAST-MODIFIED:20260225T153036Z
UID:10000081-1777485600-1777492800@waalrescue.org
SUMMARY:Adoptable Dogs at Barks and Brews!
DESCRIPTION:Come and meet adoptable dogs at Barks & Brews!
URL:https://waalrescue.org/event/adoptable-dogs-at-barks-and-brews/2026-04-29/
LOCATION:Barks & Brews\, 1312 E English St\, Wichita\, 67211\, United States
ATTACH;FMTTYPE=image/jpeg:https://waalrescue.org/wp-content/uploads/2025/12/Barks-Brews.jpg
END:VEVENT
END:VCALENDAR