BEGIN:VCALENDAR
VERSION:2.0
PRODID:-//Wichita Animal Action League - ECPv6.15.15//NONSGML v1.0//EN
CALSCALE:GREGORIAN
METHOD:PUBLISH
X-WR-CALNAME:Wichita Animal Action League
X-ORIGINAL-URL:https://waalrescue.org
X-WR-CALDESC:Events for Wichita Animal Action League
REFRESH-INTERVAL;VALUE=DURATION:PT1H
X-Robots-Tag:noindex
X-PUBLISHED-TTL:PT1H
BEGIN:VTIMEZONE
TZID:America/Chicago
BEGIN:DAYLIGHT
TZOFFSETFROM:-0600
TZOFFSETTO:-0500
TZNAME:CDT
DTSTART:20250309T080000
END:DAYLIGHT
BEGIN:STANDARD
TZOFFSETFROM:-0500
TZOFFSETTO:-0600
TZNAME:CST
DTSTART:20251102T070000
END:STANDARD
BEGIN:DAYLIGHT
TZOFFSETFROM:-0600
TZOFFSETTO:-0500
TZNAME:CDT
DTSTART:20260308T080000
END:DAYLIGHT
BEGIN:STANDARD
TZOFFSETFROM:-0500
TZOFFSETTO:-0600
TZNAME:CST
DTSTART:20261101T070000
END:STANDARD
BEGIN:DAYLIGHT
TZOFFSETFROM:-0600
TZOFFSETTO:-0500
TZNAME:CDT
DTSTART:20270314T080000
END:DAYLIGHT
BEGIN:STANDARD
TZOFFSETFROM:-0500
TZOFFSETTO:-0600
TZNAME:CST
DTSTART:20271107T070000
END:STANDARD
END:VTIMEZONE
BEGIN:VEVENT
DTSTART;TZID=America/Chicago:20260211T100000
DTEND;TZID=America/Chicago:20260211T130000
DTSTAMP:20260424T004022
CREATED:20260121T213630Z
LAST-MODIFIED:20260202T021817Z
UID:10000072-1770804000-1770814800@waalrescue.org
SUMMARY:ALPHA Clinic
DESCRIPTION:ALPHA clinics are urgent care type clinics designed for low-income families who can't afford services elsewhere. Both dogs and cats are welcome. This is not a surgery or spay/neuter clinic.There is a $30 copay per pet. All dogs must be on leashes and cats in carriers.\nTHIS EVENT IS FIRST COME-FIRST SERVED AND ONLY 20 PETS WILL BE SEEN! We recommend that you come early and expect a wait. You can wait in your vehicle once you check in.Must be Sedgwick County residents making less than $50K annual household income.Questions? Please email us at rescue@waalrescue.org.
URL:https://waalrescue.org/event/alpa-clinic/
LOCATION:Schell Park\, 1000 W 24th St N\, Wichita\, KS\, 67204\, United States
CATEGORIES:ALPHA Clinic
ATTACH;FMTTYPE=image/jpeg:https://waalrescue.org/wp-content/uploads/2026/01/612524182_1276830381145965_366532131217622319_n.jpg
END:VEVENT
END:VCALENDAR