BEGIN:VCALENDAR
VERSION:2.0
PRODID:-//Wichita Animal Action League - ECPv6.15.15//NONSGML v1.0//EN
CALSCALE:GREGORIAN
METHOD:PUBLISH
X-WR-CALNAME:Wichita Animal Action League
X-ORIGINAL-URL:https://waalrescue.org
X-WR-CALDESC:Events for Wichita Animal Action League
REFRESH-INTERVAL;VALUE=DURATION:PT1H
X-Robots-Tag:noindex
X-PUBLISHED-TTL:PT1H
BEGIN:VTIMEZONE
TZID:America/Chicago
BEGIN:DAYLIGHT
TZOFFSETFROM:-0600
TZOFFSETTO:-0500
TZNAME:CDT
DTSTART:20250309T080000
END:DAYLIGHT
BEGIN:STANDARD
TZOFFSETFROM:-0500
TZOFFSETTO:-0600
TZNAME:CST
DTSTART:20251102T070000
END:STANDARD
BEGIN:DAYLIGHT
TZOFFSETFROM:-0600
TZOFFSETTO:-0500
TZNAME:CDT
DTSTART:20260308T080000
END:DAYLIGHT
BEGIN:STANDARD
TZOFFSETFROM:-0500
TZOFFSETTO:-0600
TZNAME:CST
DTSTART:20261101T070000
END:STANDARD
BEGIN:DAYLIGHT
TZOFFSETFROM:-0600
TZOFFSETTO:-0500
TZNAME:CDT
DTSTART:20270314T080000
END:DAYLIGHT
BEGIN:STANDARD
TZOFFSETFROM:-0500
TZOFFSETTO:-0600
TZNAME:CST
DTSTART:20271107T070000
END:STANDARD
END:VTIMEZONE
BEGIN:VEVENT
DTSTART;TZID=America/Chicago:20260419T140000
DTEND;TZID=America/Chicago:20260419T160000
DTSTAMP:20260424T002120
CREATED:20260408T211751Z
LAST-MODIFIED:20260408T211817Z
UID:10000158-1776607200-1776614400@waalrescue.org
SUMMARY:Join WAAL and JCP as we celebrate pets! Bring donations & win prizes!
DESCRIPTION:Join us and adoptable WAAL pups at JC Penney's at Towne East! We will be collecting donations of dry dog food\, dry cat food\, and puppy pads. Any donation will allow you to enter a drawing for a $25 JCP gift card! Don't have any pet food on you? Easy! Just stop at our table and order some from our online Wishlists and you can still enter the drawing!
URL:https://waalrescue.org/event/join-waal-and-jcp-as-we-celebrate-pets-bring-donations-win-prizes/
LOCATION:JCPenney\, 7700 E Kellogg Dr\, Wichita\, 67207\, United States
ATTACH;FMTTYPE=image/jpeg:https://waalrescue.org/wp-content/uploads/2026/04/JCPENNEY.jpg
END:VEVENT
END:VCALENDAR