BEGIN:VCALENDAR
VERSION:2.0
PRODID:-//Wichita Animal Action League - ECPv6.15.15//NONSGML v1.0//EN
CALSCALE:GREGORIAN
METHOD:PUBLISH
X-ORIGINAL-URL:https://waalrescue.org
X-WR-CALDESC:Events for Wichita Animal Action League
REFRESH-INTERVAL;VALUE=DURATION:PT1H
X-Robots-Tag:noindex
X-PUBLISHED-TTL:PT1H
BEGIN:VTIMEZONE
TZID:America/Chicago
BEGIN:DAYLIGHT
TZOFFSETFROM:-0600
TZOFFSETTO:-0500
TZNAME:CDT
DTSTART:20250309T080000
END:DAYLIGHT
BEGIN:STANDARD
TZOFFSETFROM:-0500
TZOFFSETTO:-0600
TZNAME:CST
DTSTART:20251102T070000
END:STANDARD
BEGIN:DAYLIGHT
TZOFFSETFROM:-0600
TZOFFSETTO:-0500
TZNAME:CDT
DTSTART:20260308T080000
END:DAYLIGHT
BEGIN:STANDARD
TZOFFSETFROM:-0500
TZOFFSETTO:-0600
TZNAME:CST
DTSTART:20261101T070000
END:STANDARD
BEGIN:DAYLIGHT
TZOFFSETFROM:-0600
TZOFFSETTO:-0500
TZNAME:CDT
DTSTART:20270314T080000
END:DAYLIGHT
BEGIN:STANDARD
TZOFFSETFROM:-0500
TZOFFSETTO:-0600
TZNAME:CST
DTSTART:20271107T070000
END:STANDARD
END:VTIMEZONE
BEGIN:VEVENT
DTSTART;TZID=America/Chicago:20260321T100000
DTEND;TZID=America/Chicago:20260321T113000
DTSTAMP:20260424T014833
CREATED:20260225T154121Z
LAST-MODIFIED:20260225T154121Z
UID:10000090-1774087200-1774092600@waalrescue.org
SUMMARY:CHIPS N CLIPS
DESCRIPTION:Would you rather wash your car with a Q-tip than deal with cutting your dog's doggie dagger toenails? Or try your grandma's hot dog jello salad recipe than tackle your cat's murder mittens?Seriously\, we're weird. Let us take this off your plate because we enjoy it!\nThis clinic will take place in Sunset Park (1851 N. Keith). No appointment needed. Cash\, card\, or VENMO accepted. Cats must be in carriers and dogs on leashes.\nAll proceeds will go back to helping animals in crisis! Thank you to WSU's Vet Tech program for helping us with this clinic!
URL:https://waalrescue.org/event/chips-n-clips-2/
LOCATION:Sunset Park\, 1851 N Keith St\, Wichita\, 67212\, United States
ATTACH;FMTTYPE=image/jpeg:https://waalrescue.org/wp-content/uploads/2026/02/CHIPS-N-CLIPS.jpg
END:VEVENT
END:VCALENDAR