BEGIN:VCALENDAR
VERSION:2.0
PRODID:-//Wichita Animal Action League - ECPv6.15.15//NONSGML v1.0//EN
CALSCALE:GREGORIAN
METHOD:PUBLISH
X-ORIGINAL-URL:https://waalrescue.org
X-WR-CALDESC:Events for Wichita Animal Action League
REFRESH-INTERVAL;VALUE=DURATION:PT1H
X-Robots-Tag:noindex
X-PUBLISHED-TTL:PT1H
BEGIN:VTIMEZONE
TZID:America/Chicago
BEGIN:DAYLIGHT
TZOFFSETFROM:-0600
TZOFFSETTO:-0500
TZNAME:CDT
DTSTART:20250309T080000
END:DAYLIGHT
BEGIN:STANDARD
TZOFFSETFROM:-0500
TZOFFSETTO:-0600
TZNAME:CST
DTSTART:20251102T070000
END:STANDARD
BEGIN:DAYLIGHT
TZOFFSETFROM:-0600
TZOFFSETTO:-0500
TZNAME:CDT
DTSTART:20260308T080000
END:DAYLIGHT
BEGIN:STANDARD
TZOFFSETFROM:-0500
TZOFFSETTO:-0600
TZNAME:CST
DTSTART:20261101T070000
END:STANDARD
BEGIN:DAYLIGHT
TZOFFSETFROM:-0600
TZOFFSETTO:-0500
TZNAME:CDT
DTSTART:20270314T080000
END:DAYLIGHT
BEGIN:STANDARD
TZOFFSETFROM:-0500
TZOFFSETTO:-0600
TZNAME:CST
DTSTART:20271107T070000
END:STANDARD
END:VTIMEZONE
BEGIN:VEVENT
DTSTART;TZID=America/Chicago:20260228T100000
DTEND;TZID=America/Chicago:20260228T130000
DTSTAMP:20260424T014757
CREATED:20260121T214359Z
LAST-MODIFIED:20260218T191800Z
UID:10000074-1772272800-1772283600@waalrescue.org
SUMMARY:Community Pet Health Day
DESCRIPTION:FREE public vaccine and microchip clinic! We will be located BEHIND (to the east) of the Oaklawn Activity Center in their back parking lot.\nFIRST COME-FIRST SERVE for up to 200 pets. FREE LUNCH for all who come-courtesy of SB Mow It Forward! Expect a long wait so bring a chair and a water bottle.\nDogs must be on leashes and cats in carriers. Puppies and kittens must be 6 weeks old.\nMAXIMUM of 3 pets per family!
URL:https://waalrescue.org/event/community-pet-health-day/
LOCATION:Oaklawn Activity Center\, 4904 S Clifton Ave\, Wichita\, KS\, 67216-3407\, United States
ATTACH;FMTTYPE=image/jpeg:https://waalrescue.org/wp-content/uploads/2026/01/Facebook-Ads-Misc-Creative-4.jpg
END:VEVENT
END:VCALENDAR