BEGIN:VCALENDAR
VERSION:2.0
PRODID:-//Wichita Animal Action League - ECPv6.15.15//NONSGML v1.0//EN
CALSCALE:GREGORIAN
METHOD:PUBLISH
X-ORIGINAL-URL:https://waalrescue.org
X-WR-CALDESC:Events for Wichita Animal Action League
REFRESH-INTERVAL;VALUE=DURATION:PT1H
X-Robots-Tag:noindex
X-PUBLISHED-TTL:PT1H
BEGIN:VTIMEZONE
TZID:America/Chicago
BEGIN:DAYLIGHT
TZOFFSETFROM:-0600
TZOFFSETTO:-0500
TZNAME:CDT
DTSTART:20250309T080000
END:DAYLIGHT
BEGIN:STANDARD
TZOFFSETFROM:-0500
TZOFFSETTO:-0600
TZNAME:CST
DTSTART:20251102T070000
END:STANDARD
BEGIN:DAYLIGHT
TZOFFSETFROM:-0600
TZOFFSETTO:-0500
TZNAME:CDT
DTSTART:20260308T080000
END:DAYLIGHT
BEGIN:STANDARD
TZOFFSETFROM:-0500
TZOFFSETTO:-0600
TZNAME:CST
DTSTART:20261101T070000
END:STANDARD
BEGIN:DAYLIGHT
TZOFFSETFROM:-0600
TZOFFSETTO:-0500
TZNAME:CDT
DTSTART:20270314T080000
END:DAYLIGHT
BEGIN:STANDARD
TZOFFSETFROM:-0500
TZOFFSETTO:-0600
TZNAME:CST
DTSTART:20271107T070000
END:STANDARD
END:VTIMEZONE
BEGIN:VEVENT
DTSTART;TZID=America/Chicago:20260222T100000
DTEND;TZID=America/Chicago:20260222T170000
DTSTAMP:20260424T042252
CREATED:20260202T022546Z
LAST-MODIFIED:20260202T022546Z
UID:10000075-1771754400-1771779600@waalrescue.org
SUMMARY:Bowling Tournament
DESCRIPTION:Join WAAL at Bowlero Northridge for a day of bowling and raising money for pets in need!\n$25 to enter the 9-pin-is-a-strike tournament (which includes three games and shoes)! Plus\, there will be raffles and more!\nThis event is always a TON of fun\, and the money raised will certainly help SO many in our community.\nSign up by getting tickets at the link below!\n\nhttps://docs.google.com/forms/d/e/1FAIpQLSdgGDSxHPKd2GtAK87YX5voZGsn2WJDF3dp4m6e1dOBet-bGA/viewform?fbclid=IwY2xjawOoJ5xleHRuA2FlbQIxMABicmlkETE0Z0xtajEzVGdZa3U4Ukxjc3J0YwZhcHBfaWQQMjIyMDM5MTc4ODIwMDg5MgABHmGtvOwT8LDA1LWPjttwPeWWMPBYd6PzDwgH-hc4dzTEoXwuBatABWFV5XJt_aem_4XG9XNp0cuF8OpdP8yle1g
URL:https://waalrescue.org/event/bowling-tournament-2/
LOCATION:Bowlero\, 749 N Ridge Rd\, Wichita\, Kansas\, 67212\, United States
ATTACH;FMTTYPE=image/jpeg:https://waalrescue.org/wp-content/uploads/2025/12/bowlero.jpg
END:VEVENT
END:VCALENDAR