BEGIN:VCALENDAR
VERSION:2.0
PRODID:-//Wichita Animal Action League - ECPv6.15.15//NONSGML v1.0//EN
CALSCALE:GREGORIAN
METHOD:PUBLISH
X-ORIGINAL-URL:https://waalrescue.org
X-WR-CALDESC:Events for Wichita Animal Action League
REFRESH-INTERVAL;VALUE=DURATION:PT1H
X-Robots-Tag:noindex
X-PUBLISHED-TTL:PT1H
BEGIN:VTIMEZONE
TZID:America/Chicago
BEGIN:DAYLIGHT
TZOFFSETFROM:-0600
TZOFFSETTO:-0500
TZNAME:CDT
DTSTART:20250309T080000
END:DAYLIGHT
BEGIN:STANDARD
TZOFFSETFROM:-0500
TZOFFSETTO:-0600
TZNAME:CST
DTSTART:20251102T070000
END:STANDARD
BEGIN:DAYLIGHT
TZOFFSETFROM:-0600
TZOFFSETTO:-0500
TZNAME:CDT
DTSTART:20260308T080000
END:DAYLIGHT
BEGIN:STANDARD
TZOFFSETFROM:-0500
TZOFFSETTO:-0600
TZNAME:CST
DTSTART:20261101T070000
END:STANDARD
BEGIN:DAYLIGHT
TZOFFSETFROM:-0600
TZOFFSETTO:-0500
TZNAME:CDT
DTSTART:20270314T080000
END:DAYLIGHT
BEGIN:STANDARD
TZOFFSETFROM:-0500
TZOFFSETTO:-0600
TZNAME:CST
DTSTART:20271107T070000
END:STANDARD
END:VTIMEZONE
BEGIN:VEVENT
DTSTART;TZID=America/Chicago:20260207T090000
DTEND;TZID=America/Chicago:20260208T160000
DTSTAMP:20260424T040952
CREATED:20260202T060245Z
LAST-MODIFIED:20260202T060533Z
UID:10000078-1770454800-1770566400@waalrescue.org
SUMMARY:Wichita Cat Fancy Show
DESCRIPTION:Are you a cat lover through and through? Come and check out the Wichita Cat Fancy cat show! There will be exotic breeds from all over the country competing\, adoptable cats/kittens and cat-related merch ready to buy! \nBe sure you stop by the WAAL booth! We will have raffles\, adoptable kittens and a wheel to spin to win great prizes! We will be there both days!! \n 
URL:https://waalrescue.org/event/wichita-cat-fancy-show/
LOCATION:Cotillion\, 11120 W. Kellogg\, Wichita\, KS\, 67209\, United States
ATTACH;FMTTYPE=image/jpeg:https://waalrescue.org/wp-content/uploads/2026/02/Cat-Fancy-Show.jpg
END:VEVENT
END:VCALENDAR